BEGIN:VCALENDAR
VERSION:2.0
PRODID:-//The Highland Lakes of Burnet County Texas - ECPv6.15.20//NONSGML v1.0//EN
CALSCALE:GREGORIAN
METHOD:PUBLISH
X-ORIGINAL-URL:https://highlandlakesofburnetcounty.com
X-WR-CALDESC:Events for The Highland Lakes of Burnet County Texas
REFRESH-INTERVAL;VALUE=DURATION:PT1H
X-Robots-Tag:noindex
X-PUBLISHED-TTL:PT1H
BEGIN:VTIMEZONE
TZID:America/Chicago
BEGIN:DAYLIGHT
TZOFFSETFROM:-0600
TZOFFSETTO:-0500
TZNAME:CDT
DTSTART:20250309T080000
END:DAYLIGHT
BEGIN:STANDARD
TZOFFSETFROM:-0500
TZOFFSETTO:-0600
TZNAME:CST
DTSTART:20251102T070000
END:STANDARD
BEGIN:DAYLIGHT
TZOFFSETFROM:-0600
TZOFFSETTO:-0500
TZNAME:CDT
DTSTART:20260308T080000
END:DAYLIGHT
BEGIN:STANDARD
TZOFFSETFROM:-0500
TZOFFSETTO:-0600
TZNAME:CST
DTSTART:20261101T070000
END:STANDARD
BEGIN:DAYLIGHT
TZOFFSETFROM:-0600
TZOFFSETTO:-0500
TZNAME:CDT
DTSTART:20270314T080000
END:DAYLIGHT
BEGIN:STANDARD
TZOFFSETFROM:-0500
TZOFFSETTO:-0600
TZNAME:CST
DTSTART:20271107T070000
END:STANDARD
END:VTIMEZONE
BEGIN:VEVENT
DTSTART;TZID=America/Chicago:20260314T130000
DTEND;TZID=America/Chicago:20260314T220000
DTSTAMP:20260423T035808
CREATED:20260310T220034Z
LAST-MODIFIED:20260310T220034Z
UID:10001350-1773493200-1773525600@highlandlakesofburnetcounty.com
SUMMARY:St. Paddy's Party with Blaggards at Round Mountain Cider Mill
DESCRIPTION:Live music ALL DAY and ALL NIGHT at the Round Mountain Cider Mill & Round Mountain Live Stage! \nHere’s your stacked lineup:\n The Yokes — 1:00 PM\n Coleto Souls — 3:30 PM\n Rodney Brannigan — 6:00 PM\nBLAGGARDS — 8:30 PM\n Drink specials ALL DAY\n Fresh cider\, full bar\, and amazing food\n Non-stop live music from afternoon through the night\n Incredible atmosphere you won’t find anywhere else\nAll for just 10 COVER\nGrab your friends\, wear your green\, and come celebrate St Paddy’s the Round Mountain way! This is one party you DO NOT want to miss!
URL:https://highlandlakesofburnetcounty.com/event/st-paddys-party-with-blaggards-at-round-mountain-cider-mill/
CATEGORIES:Arts & Culture,Kids & Family,Live Entertainment
ATTACH;FMTTYPE=image/jpeg:https://d2hl08zg7q4l7p.cloudfront.net/HLBCo/wp-content/uploads/2026/03/10170037/DgCRzy1xeAYmxSZrdPyMZmnl-EfPj9j.jpg
END:VEVENT
BEGIN:VEVENT
DTSTART;TZID=America/Chicago:20260320T190000
DTEND;TZID=America/Chicago:20260320T220000
DTSTAMP:20260423T035808
CREATED:20260310T220036Z
LAST-MODIFIED:20260310T220036Z
UID:10001351-1774033200-1774044000@highlandlakesofburnetcounty.com
SUMMARY:Bun B with Kirko Bangz
DESCRIPTION:Round Mountain Live is bringing a legendary night to the Hill Country!\n BUN B\n with special guest Kirko Bangz\n March 20\n Round Mountain Cider Mill | Round Mountain\, TX\nThis is one you do NOT want to miss. Southern hip-hop royalty live on our stage for an unforgettable night of classics\, energy\, and Texas pride.
URL:https://highlandlakesofburnetcounty.com/event/bun-b-with-kirko-bangz/
CATEGORIES:Arts & Culture,Live Entertainment,Live Music,Outdoors
ATTACH;FMTTYPE=image/jpeg:https://d2hl08zg7q4l7p.cloudfront.net/HLBCo/wp-content/uploads/2026/03/10170038/DgCOJtmNSFVXkXmyGmc5uk8H-leuggU.jpg
END:VEVENT
BEGIN:VEVENT
DTSTART;TZID=America/Chicago:20260321T190000
DTEND;TZID=America/Chicago:20260321T220000
DTSTAMP:20260423T035808
CREATED:20260310T220037Z
LAST-MODIFIED:20260310T220037Z
UID:10001352-1774119600-1774130400@highlandlakesofburnetcounty.com
SUMMARY:Ted Nugent with Suede at Round Mountain Cider Mill
DESCRIPTION:Rock legend Ted Nugent is coming to the Round Mountain Cider Mill! \n Saturday\, March 21\n7-10 p.m.\nGet ready for an unforgettable night of legendary rock in the Texas Hill Country. This is one show you do NOT want to miss!\nOpener- Suede
URL:https://highlandlakesofburnetcounty.com/event/ted-nugent-with-suede-at-round-mountain-cider-mill/
CATEGORIES:Arts & Culture,Live Entertainment,Live Music,Outdoors
ATTACH;FMTTYPE=image/jpeg:https://d2hl08zg7q4l7p.cloudfront.net/HLBCo/wp-content/uploads/2026/03/10170039/DgCZ3x0D90lMhOA4PiW5dRHz-Ai7df5.jpg
END:VEVENT
BEGIN:VEVENT
DTSTART;TZID=America/Chicago:20260322T180000
DTEND;TZID=America/Chicago:20260322T220000
DTSTAMP:20260423T035808
CREATED:20260310T220038Z
LAST-MODIFIED:20260310T220038Z
UID:10001353-1774202400-1774216800@highlandlakesofburnetcounty.com
SUMMARY:Stoney Larue at RMCM
DESCRIPTION:Stoney LaRue with Ronnie Bowen and Payton Howie\nGet ready for an amazing night of live country music\, cold drinks\, and high-energy performances you won’t want to miss. Grab your friends\, grab a drink\, and come experience an unforgettable night under the lights at Round Mountain!
URL:https://highlandlakesofburnetcounty.com/event/stoney-larue-at-rmcm/
CATEGORIES:Arts & Culture,Kids & Family,Live Entertainment
ATTACH;FMTTYPE=image/jpeg:https://d2hl08zg7q4l7p.cloudfront.net/HLBCo/wp-content/uploads/2026/03/10170040/DgB8BKiuKabAF-2wDXokHkHo-bF0pK0.jpg
END:VEVENT
BEGIN:VEVENT
DTSTART;TZID=America/Chicago:20260328T190000
DTEND;TZID=America/Chicago:20260328T220000
DTSTAMP:20260423T035808
CREATED:20260310T220042Z
LAST-MODIFIED:20260310T220042Z
UID:10001354-1774724400-1774735200@highlandlakesofburnetcounty.com
SUMMARY:Lone Star Spring Jam with Kyle Park
DESCRIPTION:Kyle Park LIVE at Round Mountain Cider Mill SATURDAY March 28!\nKyle Park is taking the Round Mountain Live Stage on SATURDAY\, March 28 for a Texas-country night you don’t want to miss!\nBorn in Austin\, TX and raised just outside the city\, Kyle Park has built a powerhouse independent career with multiple #1 Texas radio singles\, a catalog of self-released albums\, and thousands of shows played across North America and Europe. He’s also shared stages opening for legends like George Strait\, Clint Black\, and Willie Nelson\, and his music blends classic country storytelling with modern Texas grit.\n Cold cider\, great drinks\, and a full Hill Country vibe come sing loud\, bring your friends\, and make a night of it. \n\n Round Mountain Cider Mill\n Friday\, March 28\n Kyle Park Live on the Round Mountain Live Stage\n Coleton Black – Opener
URL:https://highlandlakesofburnetcounty.com/event/lone-star-spring-jam-with-kyle-park/
CATEGORIES:Arts & Culture,Live Entertainment,Live Music,Outdoors
ATTACH;FMTTYPE=image/jpeg:https://d2hl08zg7q4l7p.cloudfront.net/HLBCo/wp-content/uploads/2026/03/10170044/DgDOwoPydmCyrPE0R2AhN6cJk-u6xvxl.jpg
END:VEVENT
BEGIN:VEVENT
DTSTART;TZID=America/Chicago:20260329T170000
DTEND;TZID=America/Chicago:20260329T190000
DTSTAMP:20260423T035808
CREATED:20260310T220043Z
LAST-MODIFIED:20260310T220043Z
UID:10001355-1774803600-1774810800@highlandlakesofburnetcounty.com
SUMMARY:ROOT 90- Praise & Worship Concert
DESCRIPTION:Texas Hill Country- Gather with hundreds of fellow believers on Palm Sunday in a powerful\, Spirit-led atmosphere\, uniting our faith communities through live praise & worship music\, prayer\, and connection. Featuring Christian artists from all over Central Texas.\n-www.ROOT90Worship.com-
URL:https://highlandlakesofburnetcounty.com/event/root-90-praise-worship-concert-2/
CATEGORIES:Arts & Culture,Church,Community,FREE EVENTS,Holidays,Kids & Family,Live Entertainment,Live Music
ATTACH;FMTTYPE=image/jpeg:https://d2hl08zg7q4l7p.cloudfront.net/HLBCo/wp-content/uploads/2026/03/10170044/DgBSbuEBYu7o9d517KYej9Vg-kAwPE8.jpg
END:VEVENT
END:VCALENDAR