BEGIN:VCALENDAR
VERSION:2.0
PRODID:-//The Highland Lakes of Burnet County Texas - ECPv6.15.20//NONSGML v1.0//EN
CALSCALE:GREGORIAN
METHOD:PUBLISH
X-WR-CALNAME:The Highland Lakes of Burnet County Texas
X-ORIGINAL-URL:https://highlandlakesofburnetcounty.com
X-WR-CALDESC:Events for The Highland Lakes of Burnet County Texas
REFRESH-INTERVAL;VALUE=DURATION:PT1H
X-Robots-Tag:noindex
X-PUBLISHED-TTL:PT1H
BEGIN:VTIMEZONE
TZID:America/Chicago
BEGIN:DAYLIGHT
TZOFFSETFROM:-0600
TZOFFSETTO:-0500
TZNAME:CDT
DTSTART:20250309T080000
END:DAYLIGHT
BEGIN:STANDARD
TZOFFSETFROM:-0500
TZOFFSETTO:-0600
TZNAME:CST
DTSTART:20251102T070000
END:STANDARD
BEGIN:DAYLIGHT
TZOFFSETFROM:-0600
TZOFFSETTO:-0500
TZNAME:CDT
DTSTART:20260308T080000
END:DAYLIGHT
BEGIN:STANDARD
TZOFFSETFROM:-0500
TZOFFSETTO:-0600
TZNAME:CST
DTSTART:20261101T070000
END:STANDARD
BEGIN:DAYLIGHT
TZOFFSETFROM:-0600
TZOFFSETTO:-0500
TZNAME:CDT
DTSTART:20270314T080000
END:DAYLIGHT
BEGIN:STANDARD
TZOFFSETFROM:-0500
TZOFFSETTO:-0600
TZNAME:CST
DTSTART:20271107T070000
END:STANDARD
END:VTIMEZONE
BEGIN:VEVENT
DTSTART;TZID=America/Chicago:20260605T000000
DTEND;TZID=America/Chicago:20260606T235959
DTSTAMP:20260424T015022
CREATED:20260310T215641Z
LAST-MODIFIED:20260310T215641Z
UID:10001238-1780617600-1780790399@highlandlakesofburnetcounty.com
SUMMARY:Battle on the Colorado F1 Boat Racing
DESCRIPTION:Battle on the Colorado – Marble Falls\, TX – June 5–7\, 2026\nAfter a spectacular debut\, the Battle on the Colorado returns with F1\, F-Light\, Tri Hull\, and Talent Cup racing on the crystal-clear Colorado River at Lakeside Park. Fans pack the shoreline for one of the tightest\, most technical racecourses on the schedule. With world-class racing and Texas-sized hospitality\, Marble Falls is quickly becoming a cornerstone stop.\nDates: June 5-7\nFriday afternoon will be testing followed by live music Friday night with the concert in the park in conjunction with Show and Shine and food trucks for fans to view the boats and meet the drivers.\nSaturday heat races\nSunday finals
URL:https://highlandlakesofburnetcounty.com/event/battle-on-the-colorado-f1-boat-racing/
CATEGORIES:Arts & Culture,Kids & Family,Sports
ATTACH;FMTTYPE=image/jpeg:https://d2hl08zg7q4l7p.cloudfront.net/HLBCo/wp-content/uploads/2026/03/10165643/DgBrK3gqdPTxl1YXB4dxzUNd-AdY0Tn.jpg
END:VEVENT
BEGIN:VEVENT
DTSTART;TZID=America/Chicago:20260606T000000
DTEND;TZID=America/Chicago:20260607T235959
DTSTAMP:20260424T015022
CREATED:20260310T215649Z
LAST-MODIFIED:20260310T215649Z
UID:10001239-1780704000-1780876799@highlandlakesofburnetcounty.com
SUMMARY:Battle on the Colorado F1 Boat Racing
DESCRIPTION:Battle on the Colorado – Marble Falls\, TX – June 5–7\, 2026\nAfter a spectacular debut\, the Battle on the Colorado returns with F1\, F-Light\, Tri Hull\, and Talent Cup racing on the crystal-clear Colorado River at Lakeside Park. Fans pack the shoreline for one of the tightest\, most technical racecourses on the schedule. With world-class racing and Texas-sized hospitality\, Marble Falls is quickly becoming a cornerstone stop.\nDates: June 5-7\nFriday afternoon will be testing followed by live music Friday night with the concert in the park in conjunction with Show and Shine and food trucks for fans to view the boats and meet the drivers.\nSaturday heat races\nSunday finals
URL:https://highlandlakesofburnetcounty.com/event/battle-on-the-colorado-f1-boat-racing-2/
CATEGORIES:Arts & Culture,Kids & Family,Sports
ATTACH;FMTTYPE=image/jpeg:https://d2hl08zg7q4l7p.cloudfront.net/HLBCo/wp-content/uploads/2026/03/10165643/DgBrK3gqdPTxl1YXB4dxzUNd-AdY0Tn.jpg
END:VEVENT
BEGIN:VEVENT
DTSTART;TZID=America/Chicago:20260606T193000
DTEND;TZID=America/Chicago:20260606T223000
DTSTAMP:20260424T015022
CREATED:20260310T215650Z
LAST-MODIFIED:20260310T215650Z
UID:10001240-1780774200-1780785000@highlandlakesofburnetcounty.com
SUMMARY:Karaoke at Rae's RBar and Grill
DESCRIPTION:Rae's RBar and Grill in downtown Marble Falls hosts Karaoke Night on the first and last Saturdays of the month.
URL:https://highlandlakesofburnetcounty.com/event/karaoke-at-raes-rbar-and-grill-6/
CATEGORIES:Live Entertainment,Live Music
ATTACH;FMTTYPE=image/jpeg:https://d2hl08zg7q4l7p.cloudfront.net/HLBCo/wp-content/uploads/2026/03/10164425/DgDDuk-yCOYcf-2nrwaj2lXj-D5nsGE.jpg
END:VEVENT
BEGIN:VEVENT
DTSTART;TZID=America/Chicago:20260607T000000
DTEND;TZID=America/Chicago:20260608T235959
DTSTAMP:20260424T015022
CREATED:20260310T215651Z
LAST-MODIFIED:20260310T215651Z
UID:10001241-1780790400-1780963199@highlandlakesofburnetcounty.com
SUMMARY:Battle on the Colorado F1 Boat Racing
DESCRIPTION:Battle on the Colorado – Marble Falls\, TX – June 5–7\, 2026\nAfter a spectacular debut\, the Battle on the Colorado returns with F1\, F-Light\, Tri Hull\, and Talent Cup racing on the crystal-clear Colorado River at Lakeside Park. Fans pack the shoreline for one of the tightest\, most technical racecourses on the schedule. With world-class racing and Texas-sized hospitality\, Marble Falls is quickly becoming a cornerstone stop.\nDates: June 5-7\nFriday afternoon will be testing followed by live music Friday night with the concert in the park in conjunction with Show and Shine and food trucks for fans to view the boats and meet the drivers.\nSaturday heat races\nSunday finals
URL:https://highlandlakesofburnetcounty.com/event/battle-on-the-colorado-f1-boat-racing-3/
CATEGORIES:Arts & Culture,Kids & Family,Sports
ATTACH;FMTTYPE=image/jpeg:https://d2hl08zg7q4l7p.cloudfront.net/HLBCo/wp-content/uploads/2026/03/10165643/DgBrK3gqdPTxl1YXB4dxzUNd-AdY0Tn.jpg
END:VEVENT
BEGIN:VEVENT
DTSTART;TZID=America/Chicago:20260609T160000
DTEND;TZID=America/Chicago:20260609T190000
DTSTAMP:20260424T015022
CREATED:20260310T215652Z
LAST-MODIFIED:20260310T215652Z
UID:10001242-1781020800-1781031600@highlandlakesofburnetcounty.com
SUMMARY:Downtown Marble Falls Farmers Market
DESCRIPTION:The Downtown Marble Falls Farmers Market is open at Harmony Park from 4-7 p.m. Tuesdays\, weather permitting. Parking and admission are free. Click the link to become a vendor. 
URL:https://highlandlakesofburnetcounty.com/event/downtown-marble-falls-farmers-market-23/
CATEGORIES:Arts & Culture,Community,Outdoors
ATTACH;FMTTYPE=image/jpeg:https://d2hl08zg7q4l7p.cloudfront.net/HLBCo/wp-content/uploads/2026/01/05150829/DgA5aIaVmXo3REEtZsxG3Chr-nZ2kiX.jpg
END:VEVENT
BEGIN:VEVENT
DTSTART;TZID=America/Chicago:20260616T160000
DTEND;TZID=America/Chicago:20260616T190000
DTSTAMP:20260424T015022
CREATED:20260310T215653Z
LAST-MODIFIED:20260310T215653Z
UID:10001243-1781625600-1781636400@highlandlakesofburnetcounty.com
SUMMARY:Downtown Marble Falls Farmers Market
DESCRIPTION:The Downtown Marble Falls Farmers Market is open at Harmony Park from 4-7 p.m. Tuesdays\, weather permitting. Parking and admission are free. Click the link to become a vendor. 
URL:https://highlandlakesofburnetcounty.com/event/downtown-marble-falls-farmers-market-24/
CATEGORIES:Arts & Culture,Community,Outdoors
ATTACH;FMTTYPE=image/jpeg:https://d2hl08zg7q4l7p.cloudfront.net/HLBCo/wp-content/uploads/2026/01/05150829/DgA5aIaVmXo3REEtZsxG3Chr-nZ2kiX.jpg
END:VEVENT
BEGIN:VEVENT
DTSTART;TZID=America/Chicago:20260623T160000
DTEND;TZID=America/Chicago:20260623T190000
DTSTAMP:20260424T015022
CREATED:20260310T215658Z
LAST-MODIFIED:20260310T215658Z
UID:10001244-1782230400-1782241200@highlandlakesofburnetcounty.com
SUMMARY:Downtown Marble Falls Farmers Market
DESCRIPTION:The Downtown Marble Falls Farmers Market is open at Harmony Park from 4-7 p.m. Tuesdays\, weather permitting. Parking and admission are free. Click the link to become a vendor. 
URL:https://highlandlakesofburnetcounty.com/event/downtown-marble-falls-farmers-market-25/
CATEGORIES:Arts & Culture,Community,Outdoors
ATTACH;FMTTYPE=image/jpeg:https://d2hl08zg7q4l7p.cloudfront.net/HLBCo/wp-content/uploads/2026/01/05150829/DgA5aIaVmXo3REEtZsxG3Chr-nZ2kiX.jpg
END:VEVENT
BEGIN:VEVENT
DTSTART;TZID=America/Chicago:20260627T193000
DTEND;TZID=America/Chicago:20260627T223000
DTSTAMP:20260424T015022
CREATED:20260310T215659Z
LAST-MODIFIED:20260310T215659Z
UID:10001245-1782588600-1782599400@highlandlakesofburnetcounty.com
SUMMARY:Karaoke Night at Rae's RBar and Grill
DESCRIPTION:Rae's RBar and Grill in downtown Marble Falls hosts Karaoke Night on the first and last Saturdays of the month.
URL:https://highlandlakesofburnetcounty.com/event/karaoke-night-at-raes-rbar-and-grill-6/
CATEGORIES:Live Entertainment,Live Music
ATTACH;FMTTYPE=image/jpeg:https://d2hl08zg7q4l7p.cloudfront.net/HLBCo/wp-content/uploads/2026/01/05151126/DgCGw5WH7jit28YRGZoVIVU3-kvqyOY.jpg
END:VEVENT
BEGIN:VEVENT
DTSTART;TZID=America/Chicago:20260630T160000
DTEND;TZID=America/Chicago:20260630T190000
DTSTAMP:20260424T015022
CREATED:20260310T215700Z
LAST-MODIFIED:20260310T215700Z
UID:10001246-1782835200-1782846000@highlandlakesofburnetcounty.com
SUMMARY:Downtown Marble Falls Farmers Market
DESCRIPTION:The Downtown Marble Falls Farmers Market is open at Harmony Park from 4-7 p.m. Tuesdays\, weather permitting. Parking and admission are free. Click the link to become a vendor. 
URL:https://highlandlakesofburnetcounty.com/event/downtown-marble-falls-farmers-market-26/
CATEGORIES:Arts & Culture,Community,Outdoors
ATTACH;FMTTYPE=image/jpeg:https://d2hl08zg7q4l7p.cloudfront.net/HLBCo/wp-content/uploads/2026/01/05150829/DgA5aIaVmXo3REEtZsxG3Chr-nZ2kiX.jpg
END:VEVENT
BEGIN:VEVENT
DTSTART;TZID=America/Chicago:20260704T193000
DTEND;TZID=America/Chicago:20260704T223000
DTSTAMP:20260424T015022
CREATED:20260310T215701Z
LAST-MODIFIED:20260310T215701Z
UID:10001247-1783193400-1783204200@highlandlakesofburnetcounty.com
SUMMARY:Karaoke at Rae's RBar and Grill
DESCRIPTION:Rae's RBar and Grill in downtown Marble Falls hosts Karaoke Night on the first and last Saturdays of the month.
URL:https://highlandlakesofburnetcounty.com/event/karaoke-at-raes-rbar-and-grill-7/
CATEGORIES:Live Entertainment,Live Music
ATTACH;FMTTYPE=image/jpeg:https://d2hl08zg7q4l7p.cloudfront.net/HLBCo/wp-content/uploads/2026/03/10164425/DgDDuk-yCOYcf-2nrwaj2lXj-D5nsGE.jpg
END:VEVENT
BEGIN:VEVENT
DTSTART;TZID=America/Chicago:20260707T160000
DTEND;TZID=America/Chicago:20260707T190000
DTSTAMP:20260424T015022
CREATED:20260310T215702Z
LAST-MODIFIED:20260310T215702Z
UID:10001248-1783440000-1783450800@highlandlakesofburnetcounty.com
SUMMARY:Downtown Marble Falls Farmers Market
DESCRIPTION:The Downtown Marble Falls Farmers Market is open at Harmony Park from 4-7 p.m. Tuesdays\, weather permitting. Parking and admission are free. Click the link to become a vendor. 
URL:https://highlandlakesofburnetcounty.com/event/downtown-marble-falls-farmers-market-27/
CATEGORIES:Arts & Culture,Community,Outdoors
ATTACH;FMTTYPE=image/jpeg:https://d2hl08zg7q4l7p.cloudfront.net/HLBCo/wp-content/uploads/2026/01/05150829/DgA5aIaVmXo3REEtZsxG3Chr-nZ2kiX.jpg
END:VEVENT
BEGIN:VEVENT
DTSTART;TZID=America/Chicago:20260714T160000
DTEND;TZID=America/Chicago:20260714T190000
DTSTAMP:20260424T015022
CREATED:20260310T215711Z
LAST-MODIFIED:20260310T215711Z
UID:10001249-1784044800-1784055600@highlandlakesofburnetcounty.com
SUMMARY:Downtown Marble Falls Farmers Market
DESCRIPTION:The Downtown Marble Falls Farmers Market is open at Harmony Park from 4-7 p.m. Tuesdays\, weather permitting. Parking and admission are free. Click the link to become a vendor. 
URL:https://highlandlakesofburnetcounty.com/event/downtown-marble-falls-farmers-market-28/
CATEGORIES:Arts & Culture,Community,Outdoors
ATTACH;FMTTYPE=image/jpeg:https://d2hl08zg7q4l7p.cloudfront.net/HLBCo/wp-content/uploads/2026/01/05150829/DgA5aIaVmXo3REEtZsxG3Chr-nZ2kiX.jpg
END:VEVENT
BEGIN:VEVENT
DTSTART;TZID=America/Chicago:20260721T160000
DTEND;TZID=America/Chicago:20260721T190000
DTSTAMP:20260424T015022
CREATED:20260310T215712Z
LAST-MODIFIED:20260310T215712Z
UID:10001250-1784649600-1784660400@highlandlakesofburnetcounty.com
SUMMARY:Downtown Marble Falls Farmers Market
DESCRIPTION:The Downtown Marble Falls Farmers Market is open at Harmony Park from 4-7 p.m. Tuesdays\, weather permitting. Parking and admission are free. Click the link to become a vendor. 
URL:https://highlandlakesofburnetcounty.com/event/downtown-marble-falls-farmers-market-29/
CATEGORIES:Arts & Culture,Community,Outdoors
ATTACH;FMTTYPE=image/jpeg:https://d2hl08zg7q4l7p.cloudfront.net/HLBCo/wp-content/uploads/2026/01/05150829/DgA5aIaVmXo3REEtZsxG3Chr-nZ2kiX.jpg
END:VEVENT
BEGIN:VEVENT
DTSTART;TZID=America/Chicago:20260725T193000
DTEND;TZID=America/Chicago:20260725T223000
DTSTAMP:20260424T015022
CREATED:20260310T215713Z
LAST-MODIFIED:20260310T215713Z
UID:10001251-1785007800-1785018600@highlandlakesofburnetcounty.com
SUMMARY:Karaoke Night at Rae's RBar and Grill
DESCRIPTION:Rae's RBar and Grill in downtown Marble Falls hosts Karaoke Night on the first and last Saturdays of the month.
URL:https://highlandlakesofburnetcounty.com/event/karaoke-night-at-raes-rbar-and-grill-7/
CATEGORIES:Live Entertainment,Live Music
ATTACH;FMTTYPE=image/jpeg:https://d2hl08zg7q4l7p.cloudfront.net/HLBCo/wp-content/uploads/2026/01/05151126/DgCGw5WH7jit28YRGZoVIVU3-kvqyOY.jpg
END:VEVENT
BEGIN:VEVENT
DTSTART;TZID=America/Chicago:20260728T160000
DTEND;TZID=America/Chicago:20260728T190000
DTSTAMP:20260424T015022
CREATED:20260310T215714Z
LAST-MODIFIED:20260310T215714Z
UID:10001252-1785254400-1785265200@highlandlakesofburnetcounty.com
SUMMARY:Downtown Marble Falls Farmers Market
DESCRIPTION:The Downtown Marble Falls Farmers Market is open at Harmony Park from 4-7 p.m. Tuesdays\, weather permitting. Parking and admission are free. Click the link to become a vendor. 
URL:https://highlandlakesofburnetcounty.com/event/downtown-marble-falls-farmers-market-30/
CATEGORIES:Arts & Culture,Community,Outdoors
ATTACH;FMTTYPE=image/jpeg:https://d2hl08zg7q4l7p.cloudfront.net/HLBCo/wp-content/uploads/2026/01/05150829/DgA5aIaVmXo3REEtZsxG3Chr-nZ2kiX.jpg
END:VEVENT
BEGIN:VEVENT
DTSTART;TZID=America/Chicago:20260801T193000
DTEND;TZID=America/Chicago:20260801T223000
DTSTAMP:20260424T015022
CREATED:20260310T215715Z
LAST-MODIFIED:20260310T215715Z
UID:10001253-1785612600-1785623400@highlandlakesofburnetcounty.com
SUMMARY:Karaoke at Rae's RBar and Grill
DESCRIPTION:Rae's RBar and Grill in downtown Marble Falls hosts Karaoke Night on the first and last Saturdays of the month.
URL:https://highlandlakesofburnetcounty.com/event/karaoke-at-raes-rbar-and-grill-8/
CATEGORIES:Live Entertainment,Live Music
ATTACH;FMTTYPE=image/jpeg:https://d2hl08zg7q4l7p.cloudfront.net/HLBCo/wp-content/uploads/2026/03/10164425/DgDDuk-yCOYcf-2nrwaj2lXj-D5nsGE.jpg
END:VEVENT
BEGIN:VEVENT
DTSTART;TZID=America/Chicago:20260804T160000
DTEND;TZID=America/Chicago:20260804T190000
DTSTAMP:20260424T015022
CREATED:20260310T215719Z
LAST-MODIFIED:20260310T215719Z
UID:10001254-1785859200-1785870000@highlandlakesofburnetcounty.com
SUMMARY:Downtown Marble Falls Farmers Market
DESCRIPTION:The Downtown Marble Falls Farmers Market is open at Harmony Park from 4-7 p.m. Tuesdays\, weather permitting. Parking and admission are free. Click the link to become a vendor. 
URL:https://highlandlakesofburnetcounty.com/event/downtown-marble-falls-farmers-market-31/
CATEGORIES:Arts & Culture,Community,Outdoors
ATTACH;FMTTYPE=image/jpeg:https://d2hl08zg7q4l7p.cloudfront.net/HLBCo/wp-content/uploads/2026/01/05150829/DgA5aIaVmXo3REEtZsxG3Chr-nZ2kiX.jpg
END:VEVENT
BEGIN:VEVENT
DTSTART;TZID=America/Chicago:20260811T160000
DTEND;TZID=America/Chicago:20260811T190000
DTSTAMP:20260424T015022
CREATED:20260310T215720Z
LAST-MODIFIED:20260310T215720Z
UID:10001255-1786464000-1786474800@highlandlakesofburnetcounty.com
SUMMARY:Downtown Marble Falls Farmers Market
DESCRIPTION:The Downtown Marble Falls Farmers Market is open at Harmony Park from 4-7 p.m. Tuesdays\, weather permitting. Parking and admission are free. Click the link to become a vendor. 
URL:https://highlandlakesofburnetcounty.com/event/downtown-marble-falls-farmers-market-32/
CATEGORIES:Arts & Culture,Community,Outdoors
ATTACH;FMTTYPE=image/jpeg:https://d2hl08zg7q4l7p.cloudfront.net/HLBCo/wp-content/uploads/2026/01/05150829/DgA5aIaVmXo3REEtZsxG3Chr-nZ2kiX.jpg
END:VEVENT
BEGIN:VEVENT
DTSTART;TZID=America/Chicago:20260818T160000
DTEND;TZID=America/Chicago:20260818T190000
DTSTAMP:20260424T015022
CREATED:20260310T215721Z
LAST-MODIFIED:20260310T215721Z
UID:10001256-1787068800-1787079600@highlandlakesofburnetcounty.com
SUMMARY:Downtown Marble Falls Farmers Market
DESCRIPTION:The Downtown Marble Falls Farmers Market is open at Harmony Park from 4-7 p.m. Tuesdays\, weather permitting. Parking and admission are free. Click the link to become a vendor. 
URL:https://highlandlakesofburnetcounty.com/event/downtown-marble-falls-farmers-market-33/
CATEGORIES:Arts & Culture,Community,Outdoors
ATTACH;FMTTYPE=image/jpeg:https://d2hl08zg7q4l7p.cloudfront.net/HLBCo/wp-content/uploads/2026/01/05150829/DgA5aIaVmXo3REEtZsxG3Chr-nZ2kiX.jpg
END:VEVENT
BEGIN:VEVENT
DTSTART;TZID=America/Chicago:20260825T160000
DTEND;TZID=America/Chicago:20260825T190000
DTSTAMP:20260424T015022
CREATED:20260310T215722Z
LAST-MODIFIED:20260310T215722Z
UID:10001257-1787673600-1787684400@highlandlakesofburnetcounty.com
SUMMARY:Downtown Marble Falls Farmers Market
DESCRIPTION:The Downtown Marble Falls Farmers Market is open at Harmony Park from 4-7 p.m. Tuesdays\, weather permitting. Parking and admission are free. Click the link to become a vendor. 
URL:https://highlandlakesofburnetcounty.com/event/downtown-marble-falls-farmers-market-34/
CATEGORIES:Arts & Culture,Community,Outdoors
ATTACH;FMTTYPE=image/jpeg:https://d2hl08zg7q4l7p.cloudfront.net/HLBCo/wp-content/uploads/2026/01/05150829/DgA5aIaVmXo3REEtZsxG3Chr-nZ2kiX.jpg
END:VEVENT
BEGIN:VEVENT
DTSTART;TZID=America/Chicago:20260829T193000
DTEND;TZID=America/Chicago:20260829T223000
DTSTAMP:20260424T015022
CREATED:20260310T215723Z
LAST-MODIFIED:20260310T215723Z
UID:10001258-1788031800-1788042600@highlandlakesofburnetcounty.com
SUMMARY:Karaoke Night at Rae's RBar and Grill
DESCRIPTION:Rae's RBar and Grill in downtown Marble Falls hosts Karaoke Night on the first and last Saturdays of the month.
URL:https://highlandlakesofburnetcounty.com/event/karaoke-night-at-raes-rbar-and-grill-8/
CATEGORIES:Live Entertainment,Live Music
ATTACH;FMTTYPE=image/jpeg:https://d2hl08zg7q4l7p.cloudfront.net/HLBCo/wp-content/uploads/2026/01/05151126/DgCGw5WH7jit28YRGZoVIVU3-kvqyOY.jpg
END:VEVENT
BEGIN:VEVENT
DTSTART;TZID=America/Chicago:20260901T160000
DTEND;TZID=America/Chicago:20260901T190000
DTSTAMP:20260424T015022
CREATED:20260310T215732Z
LAST-MODIFIED:20260310T215732Z
UID:10001259-1788278400-1788289200@highlandlakesofburnetcounty.com
SUMMARY:Downtown Marble Falls Farmers Market
DESCRIPTION:The Downtown Marble Falls Farmers Market is open at Harmony Park from 4-7 p.m. Tuesdays\, weather permitting. Parking and admission are free. Click the link to become a vendor. 
URL:https://highlandlakesofburnetcounty.com/event/downtown-marble-falls-farmers-market-35/
CATEGORIES:Arts & Culture,Community,Outdoors
ATTACH;FMTTYPE=image/jpeg:https://d2hl08zg7q4l7p.cloudfront.net/HLBCo/wp-content/uploads/2026/01/05150829/DgA5aIaVmXo3REEtZsxG3Chr-nZ2kiX.jpg
END:VEVENT
BEGIN:VEVENT
DTSTART;TZID=America/Chicago:20260908T160000
DTEND;TZID=America/Chicago:20260908T190000
DTSTAMP:20260424T015022
CREATED:20260310T215733Z
LAST-MODIFIED:20260310T215733Z
UID:10001260-1788883200-1788894000@highlandlakesofburnetcounty.com
SUMMARY:Downtown Marble Falls Farmers Market
DESCRIPTION:The Downtown Marble Falls Farmers Market is open at Harmony Park from 4-7 p.m. Tuesdays\, weather permitting. Parking and admission are free. Click the link to become a vendor. 
URL:https://highlandlakesofburnetcounty.com/event/downtown-marble-falls-farmers-market-36/
CATEGORIES:Arts & Culture,Community,Outdoors
ATTACH;FMTTYPE=image/jpeg:https://d2hl08zg7q4l7p.cloudfront.net/HLBCo/wp-content/uploads/2026/01/05150829/DgA5aIaVmXo3REEtZsxG3Chr-nZ2kiX.jpg
END:VEVENT
BEGIN:VEVENT
DTSTART;TZID=America/Chicago:20260915T160000
DTEND;TZID=America/Chicago:20260915T190000
DTSTAMP:20260424T015022
CREATED:20260310T215734Z
LAST-MODIFIED:20260310T215734Z
UID:10001261-1789488000-1789498800@highlandlakesofburnetcounty.com
SUMMARY:Downtown Marble Falls Farmers Market
DESCRIPTION:The Downtown Marble Falls Farmers Market is open at Harmony Park from 4-7 p.m. Tuesdays\, weather permitting. Parking and admission are free. Click the link to become a vendor. 
URL:https://highlandlakesofburnetcounty.com/event/downtown-marble-falls-farmers-market-37/
CATEGORIES:Arts & Culture,Community,Outdoors
ATTACH;FMTTYPE=image/jpeg:https://d2hl08zg7q4l7p.cloudfront.net/HLBCo/wp-content/uploads/2026/01/05150829/DgA5aIaVmXo3REEtZsxG3Chr-nZ2kiX.jpg
END:VEVENT
BEGIN:VEVENT
DTSTART;TZID=America/Chicago:20260922T160000
DTEND;TZID=America/Chicago:20260922T190000
DTSTAMP:20260424T015022
CREATED:20260310T215735Z
LAST-MODIFIED:20260310T215735Z
UID:10001262-1790092800-1790103600@highlandlakesofburnetcounty.com
SUMMARY:Downtown Marble Falls Farmers Market
DESCRIPTION:The Downtown Marble Falls Farmers Market is open at Harmony Park from 4-7 p.m. Tuesdays\, weather permitting. Parking and admission are free. Click the link to become a vendor. 
URL:https://highlandlakesofburnetcounty.com/event/downtown-marble-falls-farmers-market-38/
CATEGORIES:Arts & Culture,Community,Outdoors
ATTACH;FMTTYPE=image/jpeg:https://d2hl08zg7q4l7p.cloudfront.net/HLBCo/wp-content/uploads/2026/01/05150829/DgA5aIaVmXo3REEtZsxG3Chr-nZ2kiX.jpg
END:VEVENT
BEGIN:VEVENT
DTSTART;TZID=America/Chicago:20260929T160000
DTEND;TZID=America/Chicago:20260929T190000
DTSTAMP:20260424T015022
CREATED:20260310T215736Z
LAST-MODIFIED:20260310T215736Z
UID:10001263-1790697600-1790708400@highlandlakesofburnetcounty.com
SUMMARY:Downtown Marble Falls Farmers Market
DESCRIPTION:The Downtown Marble Falls Farmers Market is open at Harmony Park from 4-7 p.m. Tuesdays\, weather permitting. Parking and admission are free. Click the link to become a vendor. 
URL:https://highlandlakesofburnetcounty.com/event/downtown-marble-falls-farmers-market-39/
CATEGORIES:Arts & Culture,Community,Outdoors
ATTACH;FMTTYPE=image/jpeg:https://d2hl08zg7q4l7p.cloudfront.net/HLBCo/wp-content/uploads/2026/01/05150829/DgA5aIaVmXo3REEtZsxG3Chr-nZ2kiX.jpg
END:VEVENT
BEGIN:VEVENT
DTSTART;TZID=America/Chicago:20261006T160000
DTEND;TZID=America/Chicago:20261006T190000
DTSTAMP:20260424T015022
CREATED:20260310T215740Z
LAST-MODIFIED:20260310T215740Z
UID:10001264-1791302400-1791313200@highlandlakesofburnetcounty.com
SUMMARY:Downtown Marble Falls Farmers Market
DESCRIPTION:The Downtown Marble Falls Farmers Market is open at Harmony Park from 4-7 p.m. Tuesdays\, weather permitting. Parking and admission are free. Click the link to become a vendor. 
URL:https://highlandlakesofburnetcounty.com/event/downtown-marble-falls-farmers-market-40/
CATEGORIES:Arts & Culture,Community,Outdoors
ATTACH;FMTTYPE=image/jpeg:https://d2hl08zg7q4l7p.cloudfront.net/HLBCo/wp-content/uploads/2026/01/05150829/DgA5aIaVmXo3REEtZsxG3Chr-nZ2kiX.jpg
END:VEVENT
BEGIN:VEVENT
DTSTART;TZID=America/Chicago:20261013T160000
DTEND;TZID=America/Chicago:20261013T190000
DTSTAMP:20260424T015022
CREATED:20260310T215741Z
LAST-MODIFIED:20260310T215741Z
UID:10001265-1791907200-1791918000@highlandlakesofburnetcounty.com
SUMMARY:Downtown Marble Falls Farmers Market
DESCRIPTION:The Downtown Marble Falls Farmers Market is open at Harmony Park from 4-7 p.m. Tuesdays\, weather permitting. Parking and admission are free. Click the link to become a vendor. 
URL:https://highlandlakesofburnetcounty.com/event/downtown-marble-falls-farmers-market-41/
CATEGORIES:Arts & Culture,Community,Outdoors
ATTACH;FMTTYPE=image/jpeg:https://d2hl08zg7q4l7p.cloudfront.net/HLBCo/wp-content/uploads/2026/01/05150829/DgA5aIaVmXo3REEtZsxG3Chr-nZ2kiX.jpg
END:VEVENT
BEGIN:VEVENT
DTSTART;TZID=America/Chicago:20261020T160000
DTEND;TZID=America/Chicago:20261020T190000
DTSTAMP:20260424T015022
CREATED:20260310T215742Z
LAST-MODIFIED:20260310T215742Z
UID:10001266-1792512000-1792522800@highlandlakesofburnetcounty.com
SUMMARY:Downtown Marble Falls Farmers Market
DESCRIPTION:The Downtown Marble Falls Farmers Market is open at Harmony Park from 4-7 p.m. Tuesdays\, weather permitting. Parking and admission are free. Click the link to become a vendor. 
URL:https://highlandlakesofburnetcounty.com/event/downtown-marble-falls-farmers-market-42/
CATEGORIES:Arts & Culture,Community,Outdoors
ATTACH;FMTTYPE=image/jpeg:https://d2hl08zg7q4l7p.cloudfront.net/HLBCo/wp-content/uploads/2026/01/05150829/DgA5aIaVmXo3REEtZsxG3Chr-nZ2kiX.jpg
END:VEVENT
BEGIN:VEVENT
DTSTART;TZID=America/Chicago:20261027T160000
DTEND;TZID=America/Chicago:20261027T190000
DTSTAMP:20260424T015022
CREATED:20260310T215743Z
LAST-MODIFIED:20260310T215743Z
UID:10001267-1793116800-1793127600@highlandlakesofburnetcounty.com
SUMMARY:Downtown Marble Falls Farmers Market
DESCRIPTION:The Downtown Marble Falls Farmers Market is open at Harmony Park from 4-7 p.m. Tuesdays\, weather permitting. Parking and admission are free. Click the link to become a vendor. 
URL:https://highlandlakesofburnetcounty.com/event/downtown-marble-falls-farmers-market-43/
CATEGORIES:Arts & Culture,Community,Outdoors
ATTACH;FMTTYPE=image/jpeg:https://d2hl08zg7q4l7p.cloudfront.net/HLBCo/wp-content/uploads/2026/01/05150829/DgA5aIaVmXo3REEtZsxG3Chr-nZ2kiX.jpg
END:VEVENT
END:VCALENDAR