BEGIN:VCALENDAR
VERSION:2.0
PRODID:-//The Highland Lakes of Burnet County Texas - ECPv6.15.20//NONSGML v1.0//EN
CALSCALE:GREGORIAN
METHOD:PUBLISH
X-ORIGINAL-URL:https://highlandlakesofburnetcounty.com
X-WR-CALDESC:Events for The Highland Lakes of Burnet County Texas
REFRESH-INTERVAL;VALUE=DURATION:PT1H
X-Robots-Tag:noindex
X-PUBLISHED-TTL:PT1H
BEGIN:VTIMEZONE
TZID:America/Chicago
BEGIN:DAYLIGHT
TZOFFSETFROM:-0600
TZOFFSETTO:-0500
TZNAME:CDT
DTSTART:20250309T080000
END:DAYLIGHT
BEGIN:STANDARD
TZOFFSETFROM:-0500
TZOFFSETTO:-0600
TZNAME:CST
DTSTART:20251102T070000
END:STANDARD
BEGIN:DAYLIGHT
TZOFFSETFROM:-0600
TZOFFSETTO:-0500
TZNAME:CDT
DTSTART:20260308T080000
END:DAYLIGHT
BEGIN:STANDARD
TZOFFSETFROM:-0500
TZOFFSETTO:-0600
TZNAME:CST
DTSTART:20261101T070000
END:STANDARD
BEGIN:DAYLIGHT
TZOFFSETFROM:-0600
TZOFFSETTO:-0500
TZNAME:CDT
DTSTART:20270314T080000
END:DAYLIGHT
BEGIN:STANDARD
TZOFFSETFROM:-0500
TZOFFSETTO:-0600
TZNAME:CST
DTSTART:20271107T070000
END:STANDARD
END:VTIMEZONE
BEGIN:VEVENT
DTSTART;TZID=America/Chicago:20260314T190000
DTEND;TZID=America/Chicago:20260314T220000
DTSTAMP:20260422T003950
CREATED:20260310T214237Z
LAST-MODIFIED:20260310T214237Z
UID:10001134-1773514800-1773525600@highlandlakesofburnetcounty.com
SUMMARY:The Lonestar Souvenirs
DESCRIPTION:Get ready for a fun night with The Lonestar Souvenirs at The Wave Bar & Grill\nThis Austin-based trio brings high energy\, laughs\, and nonstop music with a mix of originals and crowd-favorite covers across Rock\, Country\, Blues\, and Pop. If you like interactive\, feel-good live music that keeps the crowd involved\, this is a show you don’t want to miss!\n 
URL:https://highlandlakesofburnetcounty.com/event/the-lonestar-souvenirs/
CATEGORIES:Arts & Culture,FREE EVENTS,Live Music
ATTACH;FMTTYPE=image/jpeg:https://d2hl08zg7q4l7p.cloudfront.net/HLBCo/wp-content/uploads/2026/03/10164238/DgDahxZy-hhTouP7s1CLrzKb-FyDsEf.jpg
END:VEVENT
END:VCALENDAR