BEGIN:VCALENDAR
VERSION:2.0
PRODID:-//The Highland Lakes of Burnet County Texas - ECPv6.15.20//NONSGML v1.0//EN
CALSCALE:GREGORIAN
METHOD:PUBLISH
X-WR-CALNAME:The Highland Lakes of Burnet County Texas
X-ORIGINAL-URL:https://highlandlakesofburnetcounty.com
X-WR-CALDESC:Events for The Highland Lakes of Burnet County Texas
REFRESH-INTERVAL;VALUE=DURATION:PT1H
X-Robots-Tag:noindex
X-PUBLISHED-TTL:PT1H
BEGIN:VTIMEZONE
TZID:America/Chicago
BEGIN:DAYLIGHT
TZOFFSETFROM:-0600
TZOFFSETTO:-0500
TZNAME:CDT
DTSTART:20250309T080000
END:DAYLIGHT
BEGIN:STANDARD
TZOFFSETFROM:-0500
TZOFFSETTO:-0600
TZNAME:CST
DTSTART:20251102T070000
END:STANDARD
BEGIN:DAYLIGHT
TZOFFSETFROM:-0600
TZOFFSETTO:-0500
TZNAME:CDT
DTSTART:20260308T080000
END:DAYLIGHT
BEGIN:STANDARD
TZOFFSETFROM:-0500
TZOFFSETTO:-0600
TZNAME:CST
DTSTART:20261101T070000
END:STANDARD
BEGIN:DAYLIGHT
TZOFFSETFROM:-0600
TZOFFSETTO:-0500
TZNAME:CDT
DTSTART:20270314T080000
END:DAYLIGHT
BEGIN:STANDARD
TZOFFSETFROM:-0500
TZOFFSETTO:-0600
TZNAME:CST
DTSTART:20271107T070000
END:STANDARD
END:VTIMEZONE
BEGIN:VEVENT
DTSTART;TZID=America/Chicago:20260113T160000
DTEND;TZID=America/Chicago:20260113T190000
DTSTAMP:20260421T175807
CREATED:20260105T205621Z
LAST-MODIFIED:20260310T214623Z
UID:10000639-1768320000-1768330800@highlandlakesofburnetcounty.com
SUMMARY:Downtown Marble Falls Farmers Market
DESCRIPTION:The Downtown Marble Falls Farmers Market is open at Harmony Park from 4-7 p.m. Tuesdays\, weather permitting. Parking and admission are free. Click the link to become a vendor. 
URL:https://highlandlakesofburnetcounty.com/event/downtown-marble-falls-farmers-market-2/
CATEGORIES:Arts & Culture,Community,Outdoors
ATTACH;FMTTYPE=image/jpeg:https://d2hl08zg7q4l7p.cloudfront.net/HLBCo/wp-content/uploads/2026/01/05150829/DgA5aIaVmXo3REEtZsxG3Chr-nZ2kiX.jpg
END:VEVENT
BEGIN:VEVENT
DTSTART;TZID=America/Chicago:20260113T180000
DTEND;TZID=America/Chicago:20260113T190000
DTSTAMP:20260421T175807
CREATED:20260310T214624Z
LAST-MODIFIED:20260310T214624Z
UID:10001180-1768327200-1768330800@highlandlakesofburnetcounty.com
SUMMARY:Marble Falls Overwatch
DESCRIPTION:The community is invited to a free weekly program courtesy of Marble Falls Overwatch on a variety of topics from 6-7 p.m. Tuesdays at Lake Shores Church in Marble Falls. Topics and guest speakers vary each week. 
URL:https://highlandlakesofburnetcounty.com/event/marble-falls-overwatch-10/
CATEGORIES:Community,FREE EVENTS
ATTACH;FMTTYPE=image/jpeg:https://d2hl08zg7q4l7p.cloudfront.net/HLBCo/wp-content/uploads/2026/01/05151240/DgDV2-kv4WaEGeRQqhEsHWGf-BWLTf6.jpg
END:VEVENT
BEGIN:VEVENT
DTSTART;TZID=America/Chicago:20260113T190000
DTEND;TZID=America/Chicago:20260113T210000
DTSTAMP:20260421T175807
CREATED:20260105T205622Z
LAST-MODIFIED:20260310T214624Z
UID:10000641-1768330800-1768338000@highlandlakesofburnetcounty.com
SUMMARY:Karaoke and Tacos
DESCRIPTION:Tacos and Karaoke
URL:https://highlandlakesofburnetcounty.com/event/karaoke-and-tacos-2/
CATEGORIES:FREE EVENTS,Kids & Family,Live Music
ATTACH;FMTTYPE=image/jpeg:https://d2hl08zg7q4l7p.cloudfront.net/HLBCo/wp-content/uploads/2026/01/05150833/DgBxgm46zFzUDSqbKEGlg3AA-D44Rz6.jpg
END:VEVENT
BEGIN:VEVENT
DTSTART;TZID=America/Chicago:20260115T173000
DTEND;TZID=America/Chicago:20260115T193000
DTSTAMP:20260421T175807
CREATED:20260310T214336Z
LAST-MODIFIED:20260310T214336Z
UID:10001162-1768498200-1768505400@highlandlakesofburnetcounty.com
SUMMARY:Boots\, Bubbles & Bourbon
DESCRIPTION:Benefit for Horseshoe Bay Cultural Enrichment Society with Live Music featuring Brandon Alan and Band\nTHURSDAY JANUARY 15\, 2026\n5:30-7:30pm\n• Open Bar (Beer & Wine)\n• Heavy Apps (BBQ sliders & Trimmings)\n• Samples of Champagne & Bourbon\n• Drawing for Two 2026 Season Tickets ($900 value)\n• Must be present to win
URL:https://highlandlakesofburnetcounty.com/event/boots-bubbles-bourbon/
CATEGORIES:Arts & Culture,Fundraisers
ATTACH;FMTTYPE=image/jpeg:https://d2hl08zg7q4l7p.cloudfront.net/HLBCo/wp-content/uploads/2026/03/10164337/DgBYQl84J2AJw2AFpCh7Vy2TSg-mg2TaW.jpg
END:VEVENT
BEGIN:VEVENT
DTSTART;TZID=America/Chicago:20260115T180000
DTEND;TZID=America/Chicago:20260115T190000
DTSTAMP:20260421T175807
CREATED:20260310T214350Z
LAST-MODIFIED:20260310T214350Z
UID:10001166-1768500000-1768503600@highlandlakesofburnetcounty.com
SUMMARY:Murals & Merlot
DESCRIPTION:Join us on Thursday\, January 15th\, for an evening full of fun\, creativity\, and of course\, wine! Whether you've never painted before or it's a regular hobby of yours\, we'll help you create a unique masterpiece that you'll have a blast getting to create and call your very own!\nTICKETS NOT AVAILABLE AT THE DOOR- ticket sales will close the day of the event at 4pm (unless sold out before then). Purchase ticket with the ticket link!
URL:https://highlandlakesofburnetcounty.com/event/murals-merlot/
CATEGORIES:Arts & Culture
ATTACH;FMTTYPE=image/jpeg:https://d2hl08zg7q4l7p.cloudfront.net/HLBCo/wp-content/uploads/2026/03/10164352/DgAUKKJkPjzcM2LubF9AbsNJ-8CFFf5.jpg
END:VEVENT
BEGIN:VEVENT
DTSTART;TZID=America/Chicago:20260116T180000
DTEND;TZID=America/Chicago:20260116T210000
DTSTAMP:20260421T175807
CREATED:20260310T220004Z
LAST-MODIFIED:20260310T220012Z
UID:10001342-1768586400-1768597200@highlandlakesofburnetcounty.com
SUMMARY:Live Music at Round Mountain Cider Mill
DESCRIPTION:Free live music at the Round Mountain Cider Mill in January includes:\n1/9 Karaoke with Billy Scott\n1/10 Jon Rust\n1/16 George Gurganus\n1/17 The Mikes\n1/23 Rob Staley Band\n1/24 Dawson Holland Duo\n1/30 Bruce Smith\n1/31 Krissy Taylor
URL:https://highlandlakesofburnetcounty.com/event/live-music-at-round-mountain-cider-mill-3/
CATEGORIES:Arts & Culture,FREE EVENTS,Kids & Family,Live Entertainment,Live Music,Outdoors
ATTACH;FMTTYPE=image/jpeg:https://d2hl08zg7q4l7p.cloudfront.net/HLBCo/wp-content/uploads/2026/03/10170009/DgDpPtXKAiEfkTD2RiNdI2fr-PFZY46.jpg
END:VEVENT
BEGIN:VEVENT
DTSTART;TZID=America/Chicago:20260117T180000
DTEND;TZID=America/Chicago:20260117T210000
DTSTAMP:20260421T175807
CREATED:20260310T220005Z
LAST-MODIFIED:20260310T220013Z
UID:10001343-1768672800-1768683600@highlandlakesofburnetcounty.com
SUMMARY:Live Music at Round Mountain Cider Mill
DESCRIPTION:Free live music at the Round Mountain Cider Mill in January includes:\n1/9 Karaoke with Billy Scott\n1/10 Jon Rust\n1/16 George Gurganus\n1/17 The Mikes\n1/23 Rob Staley Band\n1/24 Dawson Holland Duo\n1/30 Bruce Smith\n1/31 Krissy Taylor
URL:https://highlandlakesofburnetcounty.com/event/live-music-at-round-mountain-cider-mill-4/
CATEGORIES:Arts & Culture,FREE EVENTS,Kids & Family,Live Entertainment,Live Music,Outdoors
ATTACH;FMTTYPE=image/jpeg:https://d2hl08zg7q4l7p.cloudfront.net/HLBCo/wp-content/uploads/2026/03/10170009/DgDpPtXKAiEfkTD2RiNdI2fr-PFZY46.jpg
END:VEVENT
BEGIN:VEVENT
DTSTART;TZID=America/Chicago:20260120T160000
DTEND;TZID=America/Chicago:20260120T190000
DTSTAMP:20260421T175807
CREATED:20260105T205706Z
LAST-MODIFIED:20260310T214625Z
UID:10000654-1768924800-1768935600@highlandlakesofburnetcounty.com
SUMMARY:Downtown Marble Falls Farmers Market
DESCRIPTION:The Downtown Marble Falls Farmers Market is open at Harmony Park from 4-7 p.m. Tuesdays\, weather permitting. Parking and admission are free. Click the link to become a vendor. 
URL:https://highlandlakesofburnetcounty.com/event/downtown-marble-falls-farmers-market-3/
CATEGORIES:Arts & Culture,Community,Outdoors
ATTACH;FMTTYPE=image/jpeg:https://d2hl08zg7q4l7p.cloudfront.net/HLBCo/wp-content/uploads/2026/01/05150829/DgA5aIaVmXo3REEtZsxG3Chr-nZ2kiX.jpg
END:VEVENT
BEGIN:VEVENT
DTSTART;TZID=America/Chicago:20260120T180000
DTEND;TZID=America/Chicago:20260120T190000
DTSTAMP:20260421T175807
CREATED:20260310T214823Z
LAST-MODIFIED:20260310T214823Z
UID:10001181-1768932000-1768935600@highlandlakesofburnetcounty.com
SUMMARY:Marble Falls Overwatch
DESCRIPTION:The community is invited to a free weekly program courtesy of Marble Falls Overwatch on a variety of topics from 6-7 p.m. Tuesdays at Lake Shores Church in Marble Falls. Topics and guest speakers vary each week. 
URL:https://highlandlakesofburnetcounty.com/event/marble-falls-overwatch-11/
CATEGORIES:Community,FREE EVENTS
ATTACH;FMTTYPE=image/jpeg:https://d2hl08zg7q4l7p.cloudfront.net/HLBCo/wp-content/uploads/2026/01/05151240/DgDV2-kv4WaEGeRQqhEsHWGf-BWLTf6.jpg
END:VEVENT
BEGIN:VEVENT
DTSTART;TZID=America/Chicago:20260120T190000
DTEND;TZID=America/Chicago:20260120T210000
DTSTAMP:20260421T175807
CREATED:20260105T205707Z
LAST-MODIFIED:20260310T214824Z
UID:10000656-1768935600-1768942800@highlandlakesofburnetcounty.com
SUMMARY:Karaoke and Tacos
DESCRIPTION:Tacos and Karaoke
URL:https://highlandlakesofburnetcounty.com/event/karaoke-and-tacos-3/
CATEGORIES:FREE EVENTS,Kids & Family,Live Music
ATTACH;FMTTYPE=image/jpeg:https://d2hl08zg7q4l7p.cloudfront.net/HLBCo/wp-content/uploads/2026/01/05150833/DgBxgm46zFzUDSqbKEGlg3AA-D44Rz6.jpg
END:VEVENT
BEGIN:VEVENT
DTSTART;TZID=America/Chicago:20260123T180000
DTEND;TZID=America/Chicago:20260123T210000
DTSTAMP:20260421T175807
CREATED:20260310T220019Z
LAST-MODIFIED:20260310T220027Z
UID:10001344-1769191200-1769202000@highlandlakesofburnetcounty.com
SUMMARY:Live Music at Round Mountain Cider Mill
DESCRIPTION:Free live music at the Round Mountain Cider Mill in January includes:\n1/9 Karaoke with Billy Scott\n1/10 Jon Rust\n1/16 George Gurganus\n1/17 The Mikes\n1/23 Rob Staley Band\n1/24 Dawson Holland Duo\n1/30 Bruce Smith\n1/31 Krissy Taylor
URL:https://highlandlakesofburnetcounty.com/event/live-music-at-round-mountain-cider-mill-5/
CATEGORIES:Arts & Culture,FREE EVENTS,Kids & Family,Live Entertainment,Live Music,Outdoors
ATTACH;FMTTYPE=image/jpeg:https://d2hl08zg7q4l7p.cloudfront.net/HLBCo/wp-content/uploads/2026/03/10170009/DgDpPtXKAiEfkTD2RiNdI2fr-PFZY46.jpg
END:VEVENT
BEGIN:VEVENT
DTSTART;TZID=America/Chicago:20260124T140000
DTEND;TZID=America/Chicago:20260124T170000
DTSTAMP:20260421T175807
CREATED:20260310T220053Z
LAST-MODIFIED:20260310T220053Z
UID:10001359-1769263200-1769274000@highlandlakesofburnetcounty.com
SUMMARY:Live music at Iron Wolf Ranch & Distillery
DESCRIPTION:Saturday\, January 24 | 2–5 PM\nJoin us at Iron Wolf Ranch & Distillery for an afternoon of live music with Brian Andrew Lee in The Den\, our indoor concert space and bar.\nHis sound blends Texas blues\, Americana\, and roots-driven rock\, led by gritty vocals and expressive guitar work that fits the Hill Country vibe perfectly. It’s the kind of music that feels just as good with a cocktail in your hand as it does sitting back and soaking it all in.
URL:https://highlandlakesofburnetcounty.com/event/live-music-at-iron-wolf-ranch-distillery/
CATEGORIES:Arts & Culture,FREE EVENTS,Kids & Family,Live Music,Outdoors
ATTACH;FMTTYPE=image/jpeg:https://d2hl08zg7q4l7p.cloudfront.net/HLBCo/wp-content/uploads/2026/03/10170055/DgCamkPD608meFZTBT3KRBhk-V5A3NQ.jpg
END:VEVENT
BEGIN:VEVENT
DTSTART;TZID=America/Chicago:20260124T180000
DTEND;TZID=America/Chicago:20260124T210000
DTSTAMP:20260421T175807
CREATED:20260310T220021Z
LAST-MODIFIED:20260310T220028Z
UID:10001345-1769277600-1769288400@highlandlakesofburnetcounty.com
SUMMARY:Live Music at Round Mountain Cider Mill
DESCRIPTION:Free live music at the Round Mountain Cider Mill in January includes:\n1/9 Karaoke with Billy Scott\n1/10 Jon Rust\n1/16 George Gurganus\n1/17 The Mikes\n1/23 Rob Staley Band\n1/24 Dawson Holland Duo\n1/30 Bruce Smith\n1/31 Krissy Taylor
URL:https://highlandlakesofburnetcounty.com/event/live-music-at-round-mountain-cider-mill-6/
CATEGORIES:Arts & Culture,FREE EVENTS,Kids & Family,Live Entertainment,Live Music,Outdoors
ATTACH;FMTTYPE=image/jpeg:https://d2hl08zg7q4l7p.cloudfront.net/HLBCo/wp-content/uploads/2026/03/10170009/DgDpPtXKAiEfkTD2RiNdI2fr-PFZY46.jpg
END:VEVENT
BEGIN:VEVENT
DTSTART;TZID=America/Chicago:20260125T140000
DTEND;TZID=America/Chicago:20260125T170000
DTSTAMP:20260421T175807
CREATED:20260310T220054Z
LAST-MODIFIED:20260310T220054Z
UID:10001360-1769349600-1769360400@highlandlakesofburnetcounty.com
SUMMARY:Live music at Iron Wolf Ranch & Distillery
DESCRIPTION:Forlini & Friends | Sunday Sing-Along at The Den\nSunday\, Jan 25\n2–5 PM\nFree Show\nIron Wolf Ranch & Distillery\nSpend your Sunday afternoon the best way possible — great music\, great people\, and great pours. \nForlini is bringing some of his favorite local musician friends to The Den stage for a high-energy\, interactive sing-along style show that’s all about fun\, connection\, and good vibes. This isn’t just a concert — it’s the kind of afternoon where everyone ends up singing along and hanging out like old friends.
URL:https://highlandlakesofburnetcounty.com/event/live-music-at-iron-wolf-ranch-distillery-2/
CATEGORIES:Arts & Culture,FREE EVENTS,Kids & Family,Live Music,Outdoors
ATTACH;FMTTYPE=image/jpeg:https://d2hl08zg7q4l7p.cloudfront.net/HLBCo/wp-content/uploads/2026/03/10170056/DgAbc73AFacqpD2A4RXlej7uR-2QqfKo.jpg
END:VEVENT
BEGIN:VEVENT
DTSTART;TZID=America/Chicago:20260127T160000
DTEND;TZID=America/Chicago:20260127T190000
DTSTAMP:20260421T175807
CREATED:20260105T205738Z
LAST-MODIFIED:20260310T214825Z
UID:10000668-1769529600-1769540400@highlandlakesofburnetcounty.com
SUMMARY:Downtown Marble Falls Farmers Market
DESCRIPTION:The Downtown Marble Falls Farmers Market is open at Harmony Park from 4-7 p.m. Tuesdays\, weather permitting. Parking and admission are free. Click the link to become a vendor. 
URL:https://highlandlakesofburnetcounty.com/event/downtown-marble-falls-farmers-market-4/
CATEGORIES:Arts & Culture,Community,Outdoors
ATTACH;FMTTYPE=image/jpeg:https://d2hl08zg7q4l7p.cloudfront.net/HLBCo/wp-content/uploads/2026/01/05150829/DgA5aIaVmXo3REEtZsxG3Chr-nZ2kiX.jpg
END:VEVENT
BEGIN:VEVENT
DTSTART;TZID=America/Chicago:20260127T180000
DTEND;TZID=America/Chicago:20260127T190000
DTSTAMP:20260421T175807
CREATED:20260310T214826Z
LAST-MODIFIED:20260310T214826Z
UID:10001182-1769536800-1769540400@highlandlakesofburnetcounty.com
SUMMARY:Marble Falls Overwatch
DESCRIPTION:The community is invited to a free weekly program courtesy of Marble Falls Overwatch on a variety of topics from 6-7 p.m. Tuesdays at Lake Shores Church in Marble Falls. Topics and guest speakers vary each week. 
URL:https://highlandlakesofburnetcounty.com/event/marble-falls-overwatch-12/
CATEGORIES:Community,FREE EVENTS
ATTACH;FMTTYPE=image/jpeg:https://d2hl08zg7q4l7p.cloudfront.net/HLBCo/wp-content/uploads/2026/01/05151240/DgDV2-kv4WaEGeRQqhEsHWGf-BWLTf6.jpg
END:VEVENT
BEGIN:VEVENT
DTSTART;TZID=America/Chicago:20260127T190000
DTEND;TZID=America/Chicago:20260127T210000
DTSTAMP:20260421T175807
CREATED:20260105T205802Z
LAST-MODIFIED:20260310T214827Z
UID:10000670-1769540400-1769547600@highlandlakesofburnetcounty.com
SUMMARY:Karaoke and Tacos
DESCRIPTION:Tacos and Karaoke
URL:https://highlandlakesofburnetcounty.com/event/karaoke-and-tacos-4/
CATEGORIES:FREE EVENTS,Kids & Family,Live Music
ATTACH;FMTTYPE=image/jpeg:https://d2hl08zg7q4l7p.cloudfront.net/HLBCo/wp-content/uploads/2026/01/05150833/DgBxgm46zFzUDSqbKEGlg3AA-D44Rz6.jpg
END:VEVENT
BEGIN:VEVENT
DTSTART;TZID=America/Chicago:20260130T180000
DTEND;TZID=America/Chicago:20260130T210000
DTSTAMP:20260421T175807
CREATED:20260310T220022Z
LAST-MODIFIED:20260310T220029Z
UID:10001346-1769796000-1769806800@highlandlakesofburnetcounty.com
SUMMARY:Live Music at Round Mountain Cider Mill
DESCRIPTION:Free live music at the Round Mountain Cider Mill in January includes:\n1/9 Karaoke with Billy Scott\n1/10 Jon Rust\n1/16 George Gurganus\n1/17 The Mikes\n1/23 Rob Staley Band\n1/24 Dawson Holland Duo\n1/30 Bruce Smith\n1/31 Krissy Taylor
URL:https://highlandlakesofburnetcounty.com/event/live-music-at-round-mountain-cider-mill-7/
CATEGORIES:Arts & Culture,FREE EVENTS,Kids & Family,Live Entertainment,Live Music,Outdoors
ATTACH;FMTTYPE=image/jpeg:https://d2hl08zg7q4l7p.cloudfront.net/HLBCo/wp-content/uploads/2026/03/10170009/DgDpPtXKAiEfkTD2RiNdI2fr-PFZY46.jpg
END:VEVENT
BEGIN:VEVENT
DTSTART;TZID=America/Chicago:20260131T140000
DTEND;TZID=America/Chicago:20260131T170000
DTSTAMP:20260421T175807
CREATED:20260310T220055Z
LAST-MODIFIED:20260310T220055Z
UID:10001361-1769868000-1769878800@highlandlakesofburnetcounty.com
SUMMARY:Live music at Iron Wolf Ranch & Distillery
DESCRIPTION:Saturday\, January 31| 2–5 PM\nJoin us at Iron Wolf Ranch & Distillery for an afternoon of live music with Robert Wagner\, bringing his signature blend of high-energy\, feel-good country and rock to the Ranch stage.
URL:https://highlandlakesofburnetcounty.com/event/live-music-at-iron-wolf-ranch-distillery-3/
CATEGORIES:Arts & Culture,FREE EVENTS,Kids & Family,Live Music,Outdoors
ATTACH;FMTTYPE=image/jpeg:https://d2hl08zg7q4l7p.cloudfront.net/HLBCo/wp-content/uploads/2026/03/10170057/DgAhEPB2A5gJpetzw4ki4G2A5s-LGkYpa.jpg
END:VEVENT
BEGIN:VEVENT
DTSTART;TZID=America/Chicago:20260131T180000
DTEND;TZID=America/Chicago:20260131T210000
DTSTAMP:20260421T175807
CREATED:20260310T220023Z
LAST-MODIFIED:20260310T220031Z
UID:10001347-1769882400-1769893200@highlandlakesofburnetcounty.com
SUMMARY:Live Music at Round Mountain Cider Mill
DESCRIPTION:Free live music at the Round Mountain Cider Mill in January includes:\n1/9 Karaoke with Billy Scott\n1/10 Jon Rust\n1/16 George Gurganus\n1/17 The Mikes\n1/23 Rob Staley Band\n1/24 Dawson Holland Duo\n1/30 Bruce Smith\n1/31 Krissy Taylor
URL:https://highlandlakesofburnetcounty.com/event/live-music-at-round-mountain-cider-mill-8/
CATEGORIES:Arts & Culture,FREE EVENTS,Kids & Family,Live Entertainment,Live Music,Outdoors
ATTACH;FMTTYPE=image/jpeg:https://d2hl08zg7q4l7p.cloudfront.net/HLBCo/wp-content/uploads/2026/03/10170009/DgDpPtXKAiEfkTD2RiNdI2fr-PFZY46.jpg
END:VEVENT
BEGIN:VEVENT
DTSTART;TZID=America/Chicago:20260131T193000
DTEND;TZID=America/Chicago:20260131T223000
DTSTAMP:20260421T175807
CREATED:20260105T205903Z
LAST-MODIFIED:20260310T214950Z
UID:10000679-1769887800-1769898600@highlandlakesofburnetcounty.com
SUMMARY:Karaoke Night at Rae's RBar and Grill
DESCRIPTION:Rae's RBar and Grill in downtown Marble Falls hosts Karaoke Night on the first and last Saturdays of the month.
URL:https://highlandlakesofburnetcounty.com/event/karaoke-night-at-raes-rbar-and-grill/
CATEGORIES:Live Entertainment,Live Music
ATTACH;FMTTYPE=image/jpeg:https://d2hl08zg7q4l7p.cloudfront.net/HLBCo/wp-content/uploads/2026/01/05151126/DgCGw5WH7jit28YRGZoVIVU3-kvqyOY.jpg
END:VEVENT
BEGIN:VEVENT
DTSTART;TZID=America/Chicago:20260203T120000
DTEND;TZID=America/Chicago:20260203T130000
DTSTAMP:20260421T175807
CREATED:20260105T205905Z
LAST-MODIFIED:20260310T214951Z
UID:10000682-1770120000-1770123600@highlandlakesofburnetcounty.com
SUMMARY:Highland Lakes Kiwanis Meeting
DESCRIPTION:Are you interested in helping children succeed? Do you want to know more about the Highland Lakes area? Want to meet new people and make new friends? Have lunch on us and discover the world of Kiwanis! Kids are our focus!
URL:https://highlandlakesofburnetcounty.com/event/highland-lakes-kiwanis-meeting-5/
CATEGORIES:Clubs & Groups
ATTACH;FMTTYPE=image/jpeg:https://d2hl08zg7q4l7p.cloudfront.net/HLBCo/wp-content/uploads/2026/03/10164954/DgB2Adhp2w7kmWGASozxq4j2AI-Jr7ZBJ.jpg
END:VEVENT
BEGIN:VEVENT
DTSTART;TZID=America/Chicago:20260203T160000
DTEND;TZID=America/Chicago:20260203T190000
DTSTAMP:20260421T175807
CREATED:20260105T205905Z
LAST-MODIFIED:20260310T214953Z
UID:10000683-1770134400-1770145200@highlandlakesofburnetcounty.com
SUMMARY:Downtown Marble Falls Farmers Market
DESCRIPTION:The Downtown Marble Falls Farmers Market is open at Harmony Park from 4-7 p.m. Tuesdays\, weather permitting. Parking and admission are free. Click the link to become a vendor. 
URL:https://highlandlakesofburnetcounty.com/event/downtown-marble-falls-farmers-market-5/
CATEGORIES:Arts & Culture,Community,Outdoors
ATTACH;FMTTYPE=image/jpeg:https://d2hl08zg7q4l7p.cloudfront.net/HLBCo/wp-content/uploads/2026/01/05150829/DgA5aIaVmXo3REEtZsxG3Chr-nZ2kiX.jpg
END:VEVENT
BEGIN:VEVENT
DTSTART;TZID=America/Chicago:20260203T180000
DTEND;TZID=America/Chicago:20260203T190000
DTSTAMP:20260421T175807
CREATED:20260310T214953Z
LAST-MODIFIED:20260310T214953Z
UID:10001183-1770141600-1770145200@highlandlakesofburnetcounty.com
SUMMARY:Marble Falls Overwatch
DESCRIPTION:The community is invited to a free weekly program courtesy of Marble Falls Overwatch on a variety of topics from 6-7 p.m. Tuesdays at Lake Shores Church in Marble Falls. Topics and guest speakers vary each week. 
URL:https://highlandlakesofburnetcounty.com/event/marble-falls-overwatch-13/
CATEGORIES:Community,FREE EVENTS
ATTACH;FMTTYPE=image/jpeg:https://d2hl08zg7q4l7p.cloudfront.net/HLBCo/wp-content/uploads/2026/01/05151240/DgDV2-kv4WaEGeRQqhEsHWGf-BWLTf6.jpg
END:VEVENT
BEGIN:VEVENT
DTSTART;TZID=America/Chicago:20260203T190000
DTEND;TZID=America/Chicago:20260203T210000
DTSTAMP:20260421T175807
CREATED:20260105T205922Z
LAST-MODIFIED:20260310T214954Z
UID:10000685-1770145200-1770152400@highlandlakesofburnetcounty.com
SUMMARY:Karaoke and Tacos
DESCRIPTION:Tacos and Karaoke
URL:https://highlandlakesofburnetcounty.com/event/karaoke-and-tacos-5/
CATEGORIES:FREE EVENTS,Kids & Family,Live Music
ATTACH;FMTTYPE=image/jpeg:https://d2hl08zg7q4l7p.cloudfront.net/HLBCo/wp-content/uploads/2026/01/05150833/DgBxgm46zFzUDSqbKEGlg3AA-D44Rz6.jpg
END:VEVENT
BEGIN:VEVENT
DTSTART;TZID=America/Chicago:20260204T190000
DTEND;TZID=America/Chicago:20260204T210000
DTSTAMP:20260421T175807
CREATED:20260310T215002Z
LAST-MODIFIED:20260310T215002Z
UID:10001184-1770231600-1770238800@highlandlakesofburnetcounty.com
SUMMARY:Marble Falls Laughs: Davey Wester
DESCRIPTION:Marble Falls Laughs is a NEW Comedy Series at Brass Hall taking place on Wednesday Nights bringing some of the best upcoming talent to Downtown Marble Falls. \n\nWed.\, Feb. 4 at 7 p.m.\nDavey Wester\n\nBlue Collar Comedian Davey Wester brings a unique presence to today’s comedy scene as a Nationwide Headliner. Davey left his hometown three decades ago to follow his dreams\, where he earned the title of “paid regular” at The World Famous Comedy Store\, passed by Mitzi Shore\, and now the Mothership in Austin.
URL:https://highlandlakesofburnetcounty.com/event/marble-falls-laughs-davey-wester/
CATEGORIES:Arts & Culture,Live Entertainment
ATTACH;FMTTYPE=image/jpeg:https://d2hl08zg7q4l7p.cloudfront.net/HLBCo/wp-content/uploads/2026/03/10165004/DgC0sy-kufTtPxpyJ3uWTMnv-H8KlaU.jpg
END:VEVENT
BEGIN:VEVENT
DTSTART;TZID=America/Chicago:20260204T190000
DTEND;TZID=America/Chicago:20260204T234500
DTSTAMP:20260421T175807
CREATED:20260105T205922Z
LAST-MODIFIED:20260310T213245Z
UID:10000686-1770231600-1770248700@highlandlakesofburnetcounty.com
SUMMARY:Honky-Tonk Wednesdays at The Globe
DESCRIPTION:The historic Globe Theatre in downtown Bertram hosts free Honky-Tonk Wednesdays on the first Wednesday of the month. Enjoy country music and dancing. Free admission. Beer\, wine\, and concessions sold. Cash-only venue.
URL:https://highlandlakesofburnetcounty.com/event/honky-tonk-wednesdays-at-the-globe-2/
CATEGORIES:Arts & Culture
ATTACH;FMTTYPE=image/jpeg:https://d2hl08zg7q4l7p.cloudfront.net/HLBCo/wp-content/uploads/2026/01/05150835/DgBxxDQ64p0T2Awp2A3v1o9z23-eL287a.jpg
END:VEVENT
BEGIN:VEVENT
DTSTART;TZID=America/Chicago:20260205T100000
DTEND;TZID=America/Chicago:20260205T113000
DTSTAMP:20260421T175807
CREATED:20260310T215003Z
LAST-MODIFIED:20260310T215003Z
UID:10001185-1770285600-1770291000@highlandlakesofburnetcounty.com
SUMMARY:Species of Greatest Concern in the Texas Hill Country
DESCRIPTION:Visitors are welcome to Highland Lakes Birding and Wildflower Society’s presentation of “Species of Greatest Concern in the Texas Hill Country.” Wendy Anderson\, a nature tracker biologist with the Parks and Wildlife Department\, will explore the two species in question; the causes of their population declines; and what is being done to support them. Doors open at 9:30 for light refreshments in the foyer of the church. At 10:00\, the business meeting begins in the sanctuary\, with the presentation following at 10:30.
URL:https://highlandlakesofburnetcounty.com/event/species-of-greatest-concern-in-the-texas-hill-country/
CATEGORIES:Clubs & Groups,Community,Environmental,FREE EVENTS,Outdoors,Wildlife
ATTACH;FMTTYPE=image/jpeg:https://d2hl08zg7q4l7p.cloudfront.net/HLBCo/wp-content/uploads/2026/03/10165006/DgBpvUc19giwC2AQIkdfl7aVs-MQEd70.jpg
END:VEVENT
BEGIN:VEVENT
DTSTART;TZID=America/Chicago:20260206T193000
DTEND;TZID=America/Chicago:20260206T213000
DTSTAMP:20260421T175807
CREATED:20260105T210016Z
LAST-MODIFIED:20260310T214119Z
UID:10000694-1770406200-1770413400@highlandlakesofburnetcounty.com
SUMMARY:“Lend Me A Tenor” at the HCCT
DESCRIPTION:The Hill Country Community Theatre presents “Lend Me A Tenor” from Feb. 6-22. Performances are 7:30 p.m. Fridays and Saturdays and 2 p.m. Sundays. This Tony Award-winning farce spins a hilarious tale of mistaken identity\, opera\, and chaos when a famous opera tenor is wrongly believed dead. Chaos and slamming doors ensue in this comedy of operatic proportions. Click the link for details and tickets when available.
URL:https://highlandlakesofburnetcounty.com/event/lend-me-a-tenor-at-the-hcct/
CATEGORIES:Arts & Culture,Live Entertainment,Live Music
ATTACH;FMTTYPE=image/jpeg:https://d2hl08zg7q4l7p.cloudfront.net/HLBCo/wp-content/uploads/2026/01/05151212/DgCNDan1GEUkD50TEGA-Fjma-nG5Xfr.jpg
END:VEVENT
BEGIN:VEVENT
DTSTART;TZID=America/Chicago:20260206T193000
DTEND;TZID=America/Chicago:20260206T213000
DTSTAMP:20260421T175807
CREATED:20260310T215005Z
LAST-MODIFIED:20260310T215005Z
UID:10001186-1770406200-1770413400@highlandlakesofburnetcounty.com
SUMMARY:New Texas Sinfonia presents In an English Garden
DESCRIPTION:Founded in 2020\, New Texas Sinfonia makes their Marble Falls debut with a program of musical gems from Britain\, Weston Jennings\, conductor. \n\nThis program runs approximately 90 minutes with one intermission.\n$20 adults / students and children free admission\n\nJoin us for a Pre-Concert Conversation with Music Director Weston Jennings 30 minutes prior to concert start time.\nNew Texas Sinfonia is a professional chamber orchestra dedicated to providing \nthe best orchestral and chamber music to communities throughout Texas alongside engaging educational outreach for all ages.
URL:https://highlandlakesofburnetcounty.com/event/new-texas-sinfonia-presents-in-an-english-garden/
CATEGORIES:Arts & Culture,Live Entertainment
ATTACH;FMTTYPE=image/jpeg:https://d2hl08zg7q4l7p.cloudfront.net/HLBCo/wp-content/uploads/2026/03/10165008/DgAHho1OC-u9aEzb8v920OXn-GyTc4g.jpg
END:VEVENT
END:VCALENDAR