BEGIN:VCALENDAR
VERSION:2.0
PRODID:-//The Highland Lakes of Burnet County Texas - ECPv6.15.20//NONSGML v1.0//EN
CALSCALE:GREGORIAN
METHOD:PUBLISH
X-ORIGINAL-URL:https://highlandlakesofburnetcounty.com
X-WR-CALDESC:Events for The Highland Lakes of Burnet County Texas
REFRESH-INTERVAL;VALUE=DURATION:PT1H
X-Robots-Tag:noindex
X-PUBLISHED-TTL:PT1H
BEGIN:VTIMEZONE
TZID:America/Chicago
BEGIN:DAYLIGHT
TZOFFSETFROM:-0600
TZOFFSETTO:-0500
TZNAME:CDT
DTSTART:20250309T080000
END:DAYLIGHT
BEGIN:STANDARD
TZOFFSETFROM:-0500
TZOFFSETTO:-0600
TZNAME:CST
DTSTART:20251102T070000
END:STANDARD
BEGIN:DAYLIGHT
TZOFFSETFROM:-0600
TZOFFSETTO:-0500
TZNAME:CDT
DTSTART:20260308T080000
END:DAYLIGHT
BEGIN:STANDARD
TZOFFSETFROM:-0500
TZOFFSETTO:-0600
TZNAME:CST
DTSTART:20261101T070000
END:STANDARD
BEGIN:DAYLIGHT
TZOFFSETFROM:-0600
TZOFFSETTO:-0500
TZNAME:CDT
DTSTART:20270314T080000
END:DAYLIGHT
BEGIN:STANDARD
TZOFFSETFROM:-0500
TZOFFSETTO:-0600
TZNAME:CST
DTSTART:20271107T070000
END:STANDARD
END:VTIMEZONE
BEGIN:VEVENT
DTSTART;TZID=America/Chicago:20260619T193000
DTEND;TZID=America/Chicago:20260619T213000
DTSTAMP:20260421T082422
CREATED:20260310T214306Z
LAST-MODIFIED:20260310T214311Z
UID:10001147-1781897400-1781904600@highlandlakesofburnetcounty.com
SUMMARY:“Into the Woods” at the HCCT
DESCRIPTION:The Hill Country Community Theatre presents “Into the Woods” from June 12-28. Performances are 7:30 p.m. Fridays and Saturdays and 2 p.m. Sundays. Stephen Sondheim’s iconic musical intertwines classic fairy tales in a dark and dazzling journey about dreams\, consequences\, and what really happens after "happily ever after." Click the link for details and tickets when available.
URL:https://highlandlakesofburnetcounty.com/event/into-the-woods-at-the-hcct-4/
CATEGORIES:Arts & Culture,Live Entertainment,Live Music
ATTACH;FMTTYPE=image/jpeg:https://d2hl08zg7q4l7p.cloudfront.net/HLBCo/wp-content/uploads/2026/01/05151212/DgCNDan1GEUkD50TEGA-Fjma-nG5Xfr.jpg
END:VEVENT
BEGIN:VEVENT
DTSTART;TZID=America/Chicago:20260620T193000
DTEND;TZID=America/Chicago:20260620T213000
DTSTAMP:20260421T082422
CREATED:20260310T214307Z
LAST-MODIFIED:20260310T214312Z
UID:10001148-1781983800-1781991000@highlandlakesofburnetcounty.com
SUMMARY:“Into the Woods” at the HCCT
DESCRIPTION:The Hill Country Community Theatre presents “Into the Woods” from June 12-28. Performances are 7:30 p.m. Fridays and Saturdays and 2 p.m. Sundays. Stephen Sondheim’s iconic musical intertwines classic fairy tales in a dark and dazzling journey about dreams\, consequences\, and what really happens after "happily ever after." Click the link for details and tickets when available.
URL:https://highlandlakesofburnetcounty.com/event/into-the-woods-at-the-hcct-5/
CATEGORIES:Arts & Culture,Live Entertainment,Live Music
ATTACH;FMTTYPE=image/jpeg:https://d2hl08zg7q4l7p.cloudfront.net/HLBCo/wp-content/uploads/2026/01/05151212/DgCNDan1GEUkD50TEGA-Fjma-nG5Xfr.jpg
END:VEVENT
BEGIN:VEVENT
DTSTART;TZID=America/Chicago:20260621T140000
DTEND;TZID=America/Chicago:20260621T160000
DTSTAMP:20260421T082422
CREATED:20260310T214308Z
LAST-MODIFIED:20260310T214313Z
UID:10001149-1782050400-1782057600@highlandlakesofburnetcounty.com
SUMMARY:“Into the Woods” at the HCCT
DESCRIPTION:The Hill Country Community Theatre presents “Into the Woods” from June 12-28. Performances are 7:30 p.m. Fridays and Saturdays and 2 p.m. Sundays. Stephen Sondheim’s iconic musical intertwines classic fairy tales in a dark and dazzling journey about dreams\, consequences\, and what really happens after "happily ever after." Click the link for details and tickets when available.
URL:https://highlandlakesofburnetcounty.com/event/into-the-woods-at-the-hcct-6/
CATEGORIES:Arts & Culture,Live Entertainment,Live Music
ATTACH;FMTTYPE=image/jpeg:https://d2hl08zg7q4l7p.cloudfront.net/HLBCo/wp-content/uploads/2026/01/05151212/DgCNDan1GEUkD50TEGA-Fjma-nG5Xfr.jpg
END:VEVENT
BEGIN:VEVENT
DTSTART;TZID=America/Chicago:20260626T193000
DTEND;TZID=America/Chicago:20260626T213000
DTSTAMP:20260421T082422
CREATED:20260310T214309Z
LAST-MODIFIED:20260310T214314Z
UID:10001150-1782502200-1782509400@highlandlakesofburnetcounty.com
SUMMARY:“Into the Woods” at the HCCT
DESCRIPTION:The Hill Country Community Theatre presents “Into the Woods” from June 12-28. Performances are 7:30 p.m. Fridays and Saturdays and 2 p.m. Sundays. Stephen Sondheim’s iconic musical intertwines classic fairy tales in a dark and dazzling journey about dreams\, consequences\, and what really happens after "happily ever after." Click the link for details and tickets when available.
URL:https://highlandlakesofburnetcounty.com/event/into-the-woods-at-the-hcct-7/
CATEGORIES:Arts & Culture,Live Entertainment,Live Music
ATTACH;FMTTYPE=image/jpeg:https://d2hl08zg7q4l7p.cloudfront.net/HLBCo/wp-content/uploads/2026/01/05151212/DgCNDan1GEUkD50TEGA-Fjma-nG5Xfr.jpg
END:VEVENT
BEGIN:VEVENT
DTSTART;TZID=America/Chicago:20260627T193000
DTEND;TZID=America/Chicago:20260627T213000
DTSTAMP:20260421T082422
CREATED:20260310T214315Z
LAST-MODIFIED:20260310T214315Z
UID:10001151-1782588600-1782595800@highlandlakesofburnetcounty.com
SUMMARY:“Into the Woods” at the HCCT
DESCRIPTION:The Hill Country Community Theatre presents “Into the Woods” from June 12-28. Performances are 7:30 p.m. Fridays and Saturdays and 2 p.m. Sundays. Stephen Sondheim’s iconic musical intertwines classic fairy tales in a dark and dazzling journey about dreams\, consequences\, and what really happens after "happily ever after." Click the link for details and tickets when available.
URL:https://highlandlakesofburnetcounty.com/event/into-the-woods-at-the-hcct-8/
CATEGORIES:Arts & Culture,Live Entertainment,Live Music
ATTACH;FMTTYPE=image/jpeg:https://d2hl08zg7q4l7p.cloudfront.net/HLBCo/wp-content/uploads/2026/01/05151212/DgCNDan1GEUkD50TEGA-Fjma-nG5Xfr.jpg
END:VEVENT
BEGIN:VEVENT
DTSTART;TZID=America/Chicago:20260627T193000
DTEND;TZID=America/Chicago:20260627T223000
DTSTAMP:20260421T082422
CREATED:20260310T215659Z
LAST-MODIFIED:20260310T215659Z
UID:10001245-1782588600-1782599400@highlandlakesofburnetcounty.com
SUMMARY:Karaoke Night at Rae's RBar and Grill
DESCRIPTION:Rae's RBar and Grill in downtown Marble Falls hosts Karaoke Night on the first and last Saturdays of the month.
URL:https://highlandlakesofburnetcounty.com/event/karaoke-night-at-raes-rbar-and-grill-6/
CATEGORIES:Live Entertainment,Live Music
ATTACH;FMTTYPE=image/jpeg:https://d2hl08zg7q4l7p.cloudfront.net/HLBCo/wp-content/uploads/2026/01/05151126/DgCGw5WH7jit28YRGZoVIVU3-kvqyOY.jpg
END:VEVENT
BEGIN:VEVENT
DTSTART;TZID=America/Chicago:20260628T140000
DTEND;TZID=America/Chicago:20260628T160000
DTSTAMP:20260421T082422
CREATED:20260310T214316Z
LAST-MODIFIED:20260310T214316Z
UID:10001152-1782655200-1782662400@highlandlakesofburnetcounty.com
SUMMARY:“Into the Woods” at the HCCT
DESCRIPTION:The Hill Country Community Theatre presents “Into the Woods” from June 12-28. Performances are 7:30 p.m. Fridays and Saturdays and 2 p.m. Sundays. Stephen Sondheim’s iconic musical intertwines classic fairy tales in a dark and dazzling journey about dreams\, consequences\, and what really happens after "happily ever after." Click the link for details and tickets when available.
URL:https://highlandlakesofburnetcounty.com/event/into-the-woods-at-the-hcct-9/
CATEGORIES:Arts & Culture,Live Entertainment,Live Music
ATTACH;FMTTYPE=image/jpeg:https://d2hl08zg7q4l7p.cloudfront.net/HLBCo/wp-content/uploads/2026/01/05151212/DgCNDan1GEUkD50TEGA-Fjma-nG5Xfr.jpg
END:VEVENT
BEGIN:VEVENT
DTSTART;TZID=America/Chicago:20260704T193000
DTEND;TZID=America/Chicago:20260704T223000
DTSTAMP:20260421T082422
CREATED:20260310T215701Z
LAST-MODIFIED:20260310T215701Z
UID:10001247-1783193400-1783204200@highlandlakesofburnetcounty.com
SUMMARY:Karaoke at Rae's RBar and Grill
DESCRIPTION:Rae's RBar and Grill in downtown Marble Falls hosts Karaoke Night on the first and last Saturdays of the month.
URL:https://highlandlakesofburnetcounty.com/event/karaoke-at-raes-rbar-and-grill-7/
CATEGORIES:Live Entertainment,Live Music
ATTACH;FMTTYPE=image/jpeg:https://d2hl08zg7q4l7p.cloudfront.net/HLBCo/wp-content/uploads/2026/03/10164425/DgDDuk-yCOYcf-2nrwaj2lXj-D5nsGE.jpg
END:VEVENT
BEGIN:VEVENT
DTSTART;TZID=America/Chicago:20260725T193000
DTEND;TZID=America/Chicago:20260725T223000
DTSTAMP:20260421T082422
CREATED:20260310T215713Z
LAST-MODIFIED:20260310T215713Z
UID:10001251-1785007800-1785018600@highlandlakesofburnetcounty.com
SUMMARY:Karaoke Night at Rae's RBar and Grill
DESCRIPTION:Rae's RBar and Grill in downtown Marble Falls hosts Karaoke Night on the first and last Saturdays of the month.
URL:https://highlandlakesofburnetcounty.com/event/karaoke-night-at-raes-rbar-and-grill-7/
CATEGORIES:Live Entertainment,Live Music
ATTACH;FMTTYPE=image/jpeg:https://d2hl08zg7q4l7p.cloudfront.net/HLBCo/wp-content/uploads/2026/01/05151126/DgCGw5WH7jit28YRGZoVIVU3-kvqyOY.jpg
END:VEVENT
BEGIN:VEVENT
DTSTART;TZID=America/Chicago:20260801T193000
DTEND;TZID=America/Chicago:20260801T223000
DTSTAMP:20260421T082422
CREATED:20260310T215715Z
LAST-MODIFIED:20260310T215715Z
UID:10001253-1785612600-1785623400@highlandlakesofburnetcounty.com
SUMMARY:Karaoke at Rae's RBar and Grill
DESCRIPTION:Rae's RBar and Grill in downtown Marble Falls hosts Karaoke Night on the first and last Saturdays of the month.
URL:https://highlandlakesofburnetcounty.com/event/karaoke-at-raes-rbar-and-grill-8/
CATEGORIES:Live Entertainment,Live Music
ATTACH;FMTTYPE=image/jpeg:https://d2hl08zg7q4l7p.cloudfront.net/HLBCo/wp-content/uploads/2026/03/10164425/DgDDuk-yCOYcf-2nrwaj2lXj-D5nsGE.jpg
END:VEVENT
BEGIN:VEVENT
DTSTART;TZID=America/Chicago:20260829T193000
DTEND;TZID=America/Chicago:20260829T223000
DTSTAMP:20260421T082422
CREATED:20260310T215723Z
LAST-MODIFIED:20260310T215723Z
UID:10001258-1788031800-1788042600@highlandlakesofburnetcounty.com
SUMMARY:Karaoke Night at Rae's RBar and Grill
DESCRIPTION:Rae's RBar and Grill in downtown Marble Falls hosts Karaoke Night on the first and last Saturdays of the month.
URL:https://highlandlakesofburnetcounty.com/event/karaoke-night-at-raes-rbar-and-grill-8/
CATEGORIES:Live Entertainment,Live Music
ATTACH;FMTTYPE=image/jpeg:https://d2hl08zg7q4l7p.cloudfront.net/HLBCo/wp-content/uploads/2026/01/05151126/DgCGw5WH7jit28YRGZoVIVU3-kvqyOY.jpg
END:VEVENT
END:VCALENDAR