BEGIN:VCALENDAR
VERSION:2.0
PRODID:-//The Highland Lakes of Burnet County Texas - ECPv6.15.20//NONSGML v1.0//EN
CALSCALE:GREGORIAN
METHOD:PUBLISH
X-WR-CALNAME:The Highland Lakes of Burnet County Texas
X-ORIGINAL-URL:https://highlandlakesofburnetcounty.com
X-WR-CALDESC:Events for The Highland Lakes of Burnet County Texas
REFRESH-INTERVAL;VALUE=DURATION:PT1H
X-Robots-Tag:noindex
X-PUBLISHED-TTL:PT1H
BEGIN:VTIMEZONE
TZID:America/Chicago
BEGIN:DAYLIGHT
TZOFFSETFROM:-0600
TZOFFSETTO:-0500
TZNAME:CDT
DTSTART:20250309T080000
END:DAYLIGHT
BEGIN:STANDARD
TZOFFSETFROM:-0500
TZOFFSETTO:-0600
TZNAME:CST
DTSTART:20251102T070000
END:STANDARD
BEGIN:DAYLIGHT
TZOFFSETFROM:-0600
TZOFFSETTO:-0500
TZNAME:CDT
DTSTART:20260308T080000
END:DAYLIGHT
BEGIN:STANDARD
TZOFFSETFROM:-0500
TZOFFSETTO:-0600
TZNAME:CST
DTSTART:20261101T070000
END:STANDARD
BEGIN:DAYLIGHT
TZOFFSETFROM:-0600
TZOFFSETTO:-0500
TZNAME:CDT
DTSTART:20270314T080000
END:DAYLIGHT
BEGIN:STANDARD
TZOFFSETFROM:-0500
TZOFFSETTO:-0600
TZNAME:CST
DTSTART:20271107T070000
END:STANDARD
END:VTIMEZONE
BEGIN:VEVENT
DTSTART;TZID=America/Chicago:20260704T193000
DTEND;TZID=America/Chicago:20260704T223000
DTSTAMP:20260421T100701
CREATED:20260310T215701Z
LAST-MODIFIED:20260310T215701Z
UID:10001247-1783193400-1783204200@highlandlakesofburnetcounty.com
SUMMARY:Karaoke at Rae's RBar and Grill
DESCRIPTION:Rae's RBar and Grill in downtown Marble Falls hosts Karaoke Night on the first and last Saturdays of the month.
URL:https://highlandlakesofburnetcounty.com/event/karaoke-at-raes-rbar-and-grill-7/
CATEGORIES:Live Entertainment,Live Music
ATTACH;FMTTYPE=image/jpeg:https://d2hl08zg7q4l7p.cloudfront.net/HLBCo/wp-content/uploads/2026/03/10164425/DgDDuk-yCOYcf-2nrwaj2lXj-D5nsGE.jpg
END:VEVENT
BEGIN:VEVENT
DTSTART;TZID=America/Chicago:20260725T193000
DTEND;TZID=America/Chicago:20260725T223000
DTSTAMP:20260421T100701
CREATED:20260310T215713Z
LAST-MODIFIED:20260310T215713Z
UID:10001251-1785007800-1785018600@highlandlakesofburnetcounty.com
SUMMARY:Karaoke Night at Rae's RBar and Grill
DESCRIPTION:Rae's RBar and Grill in downtown Marble Falls hosts Karaoke Night on the first and last Saturdays of the month.
URL:https://highlandlakesofburnetcounty.com/event/karaoke-night-at-raes-rbar-and-grill-7/
CATEGORIES:Live Entertainment,Live Music
ATTACH;FMTTYPE=image/jpeg:https://d2hl08zg7q4l7p.cloudfront.net/HLBCo/wp-content/uploads/2026/01/05151126/DgCGw5WH7jit28YRGZoVIVU3-kvqyOY.jpg
END:VEVENT
BEGIN:VEVENT
DTSTART;TZID=America/Chicago:20260801T193000
DTEND;TZID=America/Chicago:20260801T223000
DTSTAMP:20260421T100701
CREATED:20260310T215715Z
LAST-MODIFIED:20260310T215715Z
UID:10001253-1785612600-1785623400@highlandlakesofburnetcounty.com
SUMMARY:Karaoke at Rae's RBar and Grill
DESCRIPTION:Rae's RBar and Grill in downtown Marble Falls hosts Karaoke Night on the first and last Saturdays of the month.
URL:https://highlandlakesofburnetcounty.com/event/karaoke-at-raes-rbar-and-grill-8/
CATEGORIES:Live Entertainment,Live Music
ATTACH;FMTTYPE=image/jpeg:https://d2hl08zg7q4l7p.cloudfront.net/HLBCo/wp-content/uploads/2026/03/10164425/DgDDuk-yCOYcf-2nrwaj2lXj-D5nsGE.jpg
END:VEVENT
BEGIN:VEVENT
DTSTART;TZID=America/Chicago:20260814T193000
DTEND;TZID=America/Chicago:20260814T213000
DTSTAMP:20260421T100701
CREATED:20260310T214317Z
LAST-MODIFIED:20260310T214317Z
UID:10001153-1786735800-1786743000@highlandlakesofburnetcounty.com
SUMMARY:“The Mystery of Irma Vep” at the HCCT
DESCRIPTION:The Hill Country Community Theatre presents “The Mystery of Irma Vep” from Aug. 14-23. Performances are 7:30 p.m. Fridays and Saturdays and 2 p.m. Sundays. Two actors play a multitude of roles in this whirlwind Victorian-era spoof packed with vampires\, werewolves\, mummies\, and lightning-fast costume changes. Click the link for details and tickets when available.
URL:https://highlandlakesofburnetcounty.com/event/the-mystery-of-irma-vep-at-the-hcct/
CATEGORIES:Arts & Culture,Live Entertainment
ATTACH;FMTTYPE=image/jpeg:https://d2hl08zg7q4l7p.cloudfront.net/HLBCo/wp-content/uploads/2026/01/05151212/DgCNDan1GEUkD50TEGA-Fjma-nG5Xfr.jpg
END:VEVENT
BEGIN:VEVENT
DTSTART;TZID=America/Chicago:20260815T193000
DTEND;TZID=America/Chicago:20260815T213000
DTSTAMP:20260421T100701
CREATED:20260310T214318Z
LAST-MODIFIED:20260310T214318Z
UID:10001154-1786822200-1786829400@highlandlakesofburnetcounty.com
SUMMARY:“The Mystery of Irma Vep” at the HCCT
DESCRIPTION:The Hill Country Community Theatre presents “The Mystery of Irma Vep” from Aug. 14-23. Performances are 7:30 p.m. Fridays and Saturdays and 2 p.m. Sundays. Two actors play a multitude of roles in this whirlwind Victorian-era spoof packed with vampires\, werewolves\, mummies\, and lightning-fast costume changes. Click the link for details and tickets when available.
URL:https://highlandlakesofburnetcounty.com/event/the-mystery-of-irma-vep-at-the-hcct-2/
CATEGORIES:Arts & Culture,Live Entertainment
ATTACH;FMTTYPE=image/jpeg:https://d2hl08zg7q4l7p.cloudfront.net/HLBCo/wp-content/uploads/2026/01/05151212/DgCNDan1GEUkD50TEGA-Fjma-nG5Xfr.jpg
END:VEVENT
BEGIN:VEVENT
DTSTART;TZID=America/Chicago:20260816T140000
DTEND;TZID=America/Chicago:20260816T160000
DTSTAMP:20260421T100701
CREATED:20260310T214319Z
LAST-MODIFIED:20260310T214319Z
UID:10001155-1786888800-1786896000@highlandlakesofburnetcounty.com
SUMMARY:“The Mystery of Irma Vep” at the HCCT
DESCRIPTION:The Hill Country Community Theatre presents “The Mystery of Irma Vep” from Aug. 14-23. Performances are 7:30 p.m. Fridays and Saturdays and 2 p.m. Sundays. Two actors play a multitude of roles in this whirlwind Victorian-era spoof packed with vampires\, werewolves\, mummies\, and lightning-fast costume changes. Click the link for details and tickets when available.
URL:https://highlandlakesofburnetcounty.com/event/the-mystery-of-irma-vep-at-the-hcct-3/
CATEGORIES:Arts & Culture,Live Entertainment
ATTACH;FMTTYPE=image/jpeg:https://d2hl08zg7q4l7p.cloudfront.net/HLBCo/wp-content/uploads/2026/01/05151212/DgCNDan1GEUkD50TEGA-Fjma-nG5Xfr.jpg
END:VEVENT
BEGIN:VEVENT
DTSTART;TZID=America/Chicago:20260821T193000
DTEND;TZID=America/Chicago:20260821T213000
DTSTAMP:20260421T100701
CREATED:20260310T214325Z
LAST-MODIFIED:20260310T214325Z
UID:10001156-1787340600-1787347800@highlandlakesofburnetcounty.com
SUMMARY:“The Mystery of Irma Vep” at the HCCT
DESCRIPTION:The Hill Country Community Theatre presents “The Mystery of Irma Vep” from Aug. 14-23. Performances are 7:30 p.m. Fridays and Saturdays and 2 p.m. Sundays. Two actors play a multitude of roles in this whirlwind Victorian-era spoof packed with vampires\, werewolves\, mummies\, and lightning-fast costume changes. Click the link for details and tickets when available.
URL:https://highlandlakesofburnetcounty.com/event/the-mystery-of-irma-vep-at-the-hcct-4/
CATEGORIES:Arts & Culture,Live Entertainment
ATTACH;FMTTYPE=image/jpeg:https://d2hl08zg7q4l7p.cloudfront.net/HLBCo/wp-content/uploads/2026/01/05151212/DgCNDan1GEUkD50TEGA-Fjma-nG5Xfr.jpg
END:VEVENT
BEGIN:VEVENT
DTSTART;TZID=America/Chicago:20260822T193000
DTEND;TZID=America/Chicago:20260822T213000
DTSTAMP:20260421T100701
CREATED:20260310T214326Z
LAST-MODIFIED:20260310T214326Z
UID:10001157-1787427000-1787434200@highlandlakesofburnetcounty.com
SUMMARY:“The Mystery of Irma Vep” at the HCCT
DESCRIPTION:The Hill Country Community Theatre presents “The Mystery of Irma Vep” from Aug. 14-23. Performances are 7:30 p.m. Fridays and Saturdays and 2 p.m. Sundays. Two actors play a multitude of roles in this whirlwind Victorian-era spoof packed with vampires\, werewolves\, mummies\, and lightning-fast costume changes. Click the link for details and tickets when available.
URL:https://highlandlakesofburnetcounty.com/event/the-mystery-of-irma-vep-at-the-hcct-5/
CATEGORIES:Arts & Culture,Live Entertainment
ATTACH;FMTTYPE=image/jpeg:https://d2hl08zg7q4l7p.cloudfront.net/HLBCo/wp-content/uploads/2026/01/05151212/DgCNDan1GEUkD50TEGA-Fjma-nG5Xfr.jpg
END:VEVENT
BEGIN:VEVENT
DTSTART;TZID=America/Chicago:20260823T140000
DTEND;TZID=America/Chicago:20260823T160000
DTSTAMP:20260421T100701
CREATED:20260310T214327Z
LAST-MODIFIED:20260310T214327Z
UID:10001158-1787493600-1787500800@highlandlakesofburnetcounty.com
SUMMARY:“The Mystery of Irma Vep” at the HCCT
DESCRIPTION:The Hill Country Community Theatre presents “The Mystery of Irma Vep” from Aug. 14-23. Performances are 7:30 p.m. Fridays and Saturdays and 2 p.m. Sundays. Two actors play a multitude of roles in this whirlwind Victorian-era spoof packed with vampires\, werewolves\, mummies\, and lightning-fast costume changes. Click the link for details and tickets when available.
URL:https://highlandlakesofburnetcounty.com/event/the-mystery-of-irma-vep-at-the-hcct-6/
CATEGORIES:Arts & Culture,Live Entertainment
ATTACH;FMTTYPE=image/jpeg:https://d2hl08zg7q4l7p.cloudfront.net/HLBCo/wp-content/uploads/2026/01/05151212/DgCNDan1GEUkD50TEGA-Fjma-nG5Xfr.jpg
END:VEVENT
BEGIN:VEVENT
DTSTART;TZID=America/Chicago:20260829T193000
DTEND;TZID=America/Chicago:20260829T223000
DTSTAMP:20260421T100701
CREATED:20260310T215723Z
LAST-MODIFIED:20260310T215723Z
UID:10001258-1788031800-1788042600@highlandlakesofburnetcounty.com
SUMMARY:Karaoke Night at Rae's RBar and Grill
DESCRIPTION:Rae's RBar and Grill in downtown Marble Falls hosts Karaoke Night on the first and last Saturdays of the month.
URL:https://highlandlakesofburnetcounty.com/event/karaoke-night-at-raes-rbar-and-grill-8/
CATEGORIES:Live Entertainment,Live Music
ATTACH;FMTTYPE=image/jpeg:https://d2hl08zg7q4l7p.cloudfront.net/HLBCo/wp-content/uploads/2026/01/05151126/DgCGw5WH7jit28YRGZoVIVU3-kvqyOY.jpg
END:VEVENT
END:VCALENDAR