BEGIN:VCALENDAR
VERSION:2.0
PRODID:-//The Highland Lakes of Burnet County Texas - ECPv6.15.20//NONSGML v1.0//EN
CALSCALE:GREGORIAN
METHOD:PUBLISH
X-ORIGINAL-URL:https://highlandlakesofburnetcounty.com
X-WR-CALDESC:Events for The Highland Lakes of Burnet County Texas
REFRESH-INTERVAL;VALUE=DURATION:PT1H
X-Robots-Tag:noindex
X-PUBLISHED-TTL:PT1H
BEGIN:VTIMEZONE
TZID:America/Chicago
BEGIN:DAYLIGHT
TZOFFSETFROM:-0600
TZOFFSETTO:-0500
TZNAME:CDT
DTSTART:20260308T080000
END:DAYLIGHT
BEGIN:STANDARD
TZOFFSETFROM:-0500
TZOFFSETTO:-0600
TZNAME:CST
DTSTART:20261101T070000
END:STANDARD
BEGIN:DAYLIGHT
TZOFFSETFROM:-0600
TZOFFSETTO:-0500
TZNAME:CDT
DTSTART:20270314T080000
END:DAYLIGHT
BEGIN:STANDARD
TZOFFSETFROM:-0500
TZOFFSETTO:-0600
TZNAME:CST
DTSTART:20271107T070000
END:STANDARD
BEGIN:DAYLIGHT
TZOFFSETFROM:-0600
TZOFFSETTO:-0500
TZNAME:CDT
DTSTART:20280312T080000
END:DAYLIGHT
BEGIN:STANDARD
TZOFFSETFROM:-0500
TZOFFSETTO:-0600
TZNAME:CST
DTSTART:20281105T070000
END:STANDARD
END:VTIMEZONE
BEGIN:VEVENT
DTSTART;TZID=America/Chicago:20270601T160000
DTEND;TZID=America/Chicago:20270601T190000
DTSTAMP:20260421T184017
CREATED:20260310T215842Z
LAST-MODIFIED:20260310T215842Z
UID:10001298-1811865600-1811876400@highlandlakesofburnetcounty.com
SUMMARY:Downtown Marble Falls Farmers Market
DESCRIPTION:The Downtown Marble Falls Farmers Market is open at Harmony Park from 4-7 p.m. Tuesdays\, weather permitting. Parking and admission are free. Click the link to become a vendor. 
URL:https://highlandlakesofburnetcounty.com/event/downtown-marble-falls-farmers-market-74/
CATEGORIES:Arts & Culture,Community,Outdoors
ATTACH;FMTTYPE=image/jpeg:https://d2hl08zg7q4l7p.cloudfront.net/HLBCo/wp-content/uploads/2026/01/05150829/DgA5aIaVmXo3REEtZsxG3Chr-nZ2kiX.jpg
END:VEVENT
BEGIN:VEVENT
DTSTART;TZID=America/Chicago:20270608T160000
DTEND;TZID=America/Chicago:20270608T190000
DTSTAMP:20260421T184017
CREATED:20260310T215849Z
LAST-MODIFIED:20260310T215849Z
UID:10001299-1812470400-1812481200@highlandlakesofburnetcounty.com
SUMMARY:Downtown Marble Falls Farmers Market
DESCRIPTION:The Downtown Marble Falls Farmers Market is open at Harmony Park from 4-7 p.m. Tuesdays\, weather permitting. Parking and admission are free. Click the link to become a vendor. 
URL:https://highlandlakesofburnetcounty.com/event/downtown-marble-falls-farmers-market-75/
CATEGORIES:Arts & Culture,Community,Outdoors
ATTACH;FMTTYPE=image/jpeg:https://d2hl08zg7q4l7p.cloudfront.net/HLBCo/wp-content/uploads/2026/01/05150829/DgA5aIaVmXo3REEtZsxG3Chr-nZ2kiX.jpg
END:VEVENT
BEGIN:VEVENT
DTSTART;TZID=America/Chicago:20270615T160000
DTEND;TZID=America/Chicago:20270615T190000
DTSTAMP:20260421T184017
CREATED:20260310T215850Z
LAST-MODIFIED:20260310T215850Z
UID:10001300-1813075200-1813086000@highlandlakesofburnetcounty.com
SUMMARY:Downtown Marble Falls Farmers Market
DESCRIPTION:The Downtown Marble Falls Farmers Market is open at Harmony Park from 4-7 p.m. Tuesdays\, weather permitting. Parking and admission are free. Click the link to become a vendor. 
URL:https://highlandlakesofburnetcounty.com/event/downtown-marble-falls-farmers-market-76/
CATEGORIES:Arts & Culture,Community,Outdoors
ATTACH;FMTTYPE=image/jpeg:https://d2hl08zg7q4l7p.cloudfront.net/HLBCo/wp-content/uploads/2026/01/05150829/DgA5aIaVmXo3REEtZsxG3Chr-nZ2kiX.jpg
END:VEVENT
BEGIN:VEVENT
DTSTART;TZID=America/Chicago:20270622T160000
DTEND;TZID=America/Chicago:20270622T190000
DTSTAMP:20260421T184017
CREATED:20260310T215851Z
LAST-MODIFIED:20260310T215851Z
UID:10001301-1813680000-1813690800@highlandlakesofburnetcounty.com
SUMMARY:Downtown Marble Falls Farmers Market
DESCRIPTION:The Downtown Marble Falls Farmers Market is open at Harmony Park from 4-7 p.m. Tuesdays\, weather permitting. Parking and admission are free. Click the link to become a vendor. 
URL:https://highlandlakesofburnetcounty.com/event/downtown-marble-falls-farmers-market-77/
CATEGORIES:Arts & Culture,Community,Outdoors
ATTACH;FMTTYPE=image/jpeg:https://d2hl08zg7q4l7p.cloudfront.net/HLBCo/wp-content/uploads/2026/01/05150829/DgA5aIaVmXo3REEtZsxG3Chr-nZ2kiX.jpg
END:VEVENT
BEGIN:VEVENT
DTSTART;TZID=America/Chicago:20270629T160000
DTEND;TZID=America/Chicago:20270629T190000
DTSTAMP:20260421T184017
CREATED:20260310T215852Z
LAST-MODIFIED:20260310T215852Z
UID:10001302-1814284800-1814295600@highlandlakesofburnetcounty.com
SUMMARY:Downtown Marble Falls Farmers Market
DESCRIPTION:The Downtown Marble Falls Farmers Market is open at Harmony Park from 4-7 p.m. Tuesdays\, weather permitting. Parking and admission are free. Click the link to become a vendor. 
URL:https://highlandlakesofburnetcounty.com/event/downtown-marble-falls-farmers-market-78/
CATEGORIES:Arts & Culture,Community,Outdoors
ATTACH;FMTTYPE=image/jpeg:https://d2hl08zg7q4l7p.cloudfront.net/HLBCo/wp-content/uploads/2026/01/05150829/DgA5aIaVmXo3REEtZsxG3Chr-nZ2kiX.jpg
END:VEVENT
BEGIN:VEVENT
DTSTART;TZID=America/Chicago:20270706T160000
DTEND;TZID=America/Chicago:20270706T190000
DTSTAMP:20260421T184017
CREATED:20260310T215853Z
LAST-MODIFIED:20260310T215853Z
UID:10001303-1814889600-1814900400@highlandlakesofburnetcounty.com
SUMMARY:Downtown Marble Falls Farmers Market
DESCRIPTION:The Downtown Marble Falls Farmers Market is open at Harmony Park from 4-7 p.m. Tuesdays\, weather permitting. Parking and admission are free. Click the link to become a vendor. 
URL:https://highlandlakesofburnetcounty.com/event/downtown-marble-falls-farmers-market-79/
CATEGORIES:Arts & Culture,Community,Outdoors
ATTACH;FMTTYPE=image/jpeg:https://d2hl08zg7q4l7p.cloudfront.net/HLBCo/wp-content/uploads/2026/01/05150829/DgA5aIaVmXo3REEtZsxG3Chr-nZ2kiX.jpg
END:VEVENT
BEGIN:VEVENT
DTSTART;TZID=America/Chicago:20270713T160000
DTEND;TZID=America/Chicago:20270713T190000
DTSTAMP:20260421T184017
CREATED:20260310T215900Z
LAST-MODIFIED:20260310T215900Z
UID:10001304-1815494400-1815505200@highlandlakesofburnetcounty.com
SUMMARY:Downtown Marble Falls Farmers Market
DESCRIPTION:The Downtown Marble Falls Farmers Market is open at Harmony Park from 4-7 p.m. Tuesdays\, weather permitting. Parking and admission are free. Click the link to become a vendor. 
URL:https://highlandlakesofburnetcounty.com/event/downtown-marble-falls-farmers-market-80/
CATEGORIES:Arts & Culture,Community,Outdoors
ATTACH;FMTTYPE=image/jpeg:https://d2hl08zg7q4l7p.cloudfront.net/HLBCo/wp-content/uploads/2026/01/05150829/DgA5aIaVmXo3REEtZsxG3Chr-nZ2kiX.jpg
END:VEVENT
BEGIN:VEVENT
DTSTART;TZID=America/Chicago:20270720T160000
DTEND;TZID=America/Chicago:20270720T190000
DTSTAMP:20260421T184017
CREATED:20260310T215901Z
LAST-MODIFIED:20260310T215901Z
UID:10001305-1816099200-1816110000@highlandlakesofburnetcounty.com
SUMMARY:Downtown Marble Falls Farmers Market
DESCRIPTION:The Downtown Marble Falls Farmers Market is open at Harmony Park from 4-7 p.m. Tuesdays\, weather permitting. Parking and admission are free. Click the link to become a vendor. 
URL:https://highlandlakesofburnetcounty.com/event/downtown-marble-falls-farmers-market-81/
CATEGORIES:Arts & Culture,Community,Outdoors
ATTACH;FMTTYPE=image/jpeg:https://d2hl08zg7q4l7p.cloudfront.net/HLBCo/wp-content/uploads/2026/01/05150829/DgA5aIaVmXo3REEtZsxG3Chr-nZ2kiX.jpg
END:VEVENT
BEGIN:VEVENT
DTSTART;TZID=America/Chicago:20270727T160000
DTEND;TZID=America/Chicago:20270727T190000
DTSTAMP:20260421T184017
CREATED:20260310T215902Z
LAST-MODIFIED:20260310T215902Z
UID:10001306-1816704000-1816714800@highlandlakesofburnetcounty.com
SUMMARY:Downtown Marble Falls Farmers Market
DESCRIPTION:The Downtown Marble Falls Farmers Market is open at Harmony Park from 4-7 p.m. Tuesdays\, weather permitting. Parking and admission are free. Click the link to become a vendor. 
URL:https://highlandlakesofburnetcounty.com/event/downtown-marble-falls-farmers-market-82/
CATEGORIES:Arts & Culture,Community,Outdoors
ATTACH;FMTTYPE=image/jpeg:https://d2hl08zg7q4l7p.cloudfront.net/HLBCo/wp-content/uploads/2026/01/05150829/DgA5aIaVmXo3REEtZsxG3Chr-nZ2kiX.jpg
END:VEVENT
BEGIN:VEVENT
DTSTART;TZID=America/Chicago:20270803T160000
DTEND;TZID=America/Chicago:20270803T190000
DTSTAMP:20260421T184017
CREATED:20260310T215903Z
LAST-MODIFIED:20260310T215903Z
UID:10001307-1817308800-1817319600@highlandlakesofburnetcounty.com
SUMMARY:Downtown Marble Falls Farmers Market
DESCRIPTION:The Downtown Marble Falls Farmers Market is open at Harmony Park from 4-7 p.m. Tuesdays\, weather permitting. Parking and admission are free. Click the link to become a vendor. 
URL:https://highlandlakesofburnetcounty.com/event/downtown-marble-falls-farmers-market-83/
CATEGORIES:Arts & Culture,Community,Outdoors
ATTACH;FMTTYPE=image/jpeg:https://d2hl08zg7q4l7p.cloudfront.net/HLBCo/wp-content/uploads/2026/01/05150829/DgA5aIaVmXo3REEtZsxG3Chr-nZ2kiX.jpg
END:VEVENT
BEGIN:VEVENT
DTSTART;TZID=America/Chicago:20270810T160000
DTEND;TZID=America/Chicago:20270810T190000
DTSTAMP:20260421T184017
CREATED:20260310T215904Z
LAST-MODIFIED:20260310T215904Z
UID:10001308-1817913600-1817924400@highlandlakesofburnetcounty.com
SUMMARY:Downtown Marble Falls Farmers Market
DESCRIPTION:The Downtown Marble Falls Farmers Market is open at Harmony Park from 4-7 p.m. Tuesdays\, weather permitting. Parking and admission are free. Click the link to become a vendor. 
URL:https://highlandlakesofburnetcounty.com/event/downtown-marble-falls-farmers-market-84/
CATEGORIES:Arts & Culture,Community,Outdoors
ATTACH;FMTTYPE=image/jpeg:https://d2hl08zg7q4l7p.cloudfront.net/HLBCo/wp-content/uploads/2026/01/05150829/DgA5aIaVmXo3REEtZsxG3Chr-nZ2kiX.jpg
END:VEVENT
BEGIN:VEVENT
DTSTART;TZID=America/Chicago:20270817T160000
DTEND;TZID=America/Chicago:20270817T190000
DTSTAMP:20260421T184017
CREATED:20260310T215907Z
LAST-MODIFIED:20260310T215907Z
UID:10001309-1818518400-1818529200@highlandlakesofburnetcounty.com
SUMMARY:Downtown Marble Falls Farmers Market
DESCRIPTION:The Downtown Marble Falls Farmers Market is open at Harmony Park from 4-7 p.m. Tuesdays\, weather permitting. Parking and admission are free. Click the link to become a vendor. 
URL:https://highlandlakesofburnetcounty.com/event/downtown-marble-falls-farmers-market-85/
CATEGORIES:Arts & Culture,Community,Outdoors
ATTACH;FMTTYPE=image/jpeg:https://d2hl08zg7q4l7p.cloudfront.net/HLBCo/wp-content/uploads/2026/01/05150829/DgA5aIaVmXo3REEtZsxG3Chr-nZ2kiX.jpg
END:VEVENT
BEGIN:VEVENT
DTSTART;TZID=America/Chicago:20270824T160000
DTEND;TZID=America/Chicago:20270824T190000
DTSTAMP:20260421T184017
CREATED:20260310T215908Z
LAST-MODIFIED:20260310T215908Z
UID:10001310-1819123200-1819134000@highlandlakesofburnetcounty.com
SUMMARY:Downtown Marble Falls Farmers Market
DESCRIPTION:The Downtown Marble Falls Farmers Market is open at Harmony Park from 4-7 p.m. Tuesdays\, weather permitting. Parking and admission are free. Click the link to become a vendor. 
URL:https://highlandlakesofburnetcounty.com/event/downtown-marble-falls-farmers-market-86/
CATEGORIES:Arts & Culture,Community,Outdoors
ATTACH;FMTTYPE=image/jpeg:https://d2hl08zg7q4l7p.cloudfront.net/HLBCo/wp-content/uploads/2026/01/05150829/DgA5aIaVmXo3REEtZsxG3Chr-nZ2kiX.jpg
END:VEVENT
BEGIN:VEVENT
DTSTART;TZID=America/Chicago:20270831T160000
DTEND;TZID=America/Chicago:20270831T190000
DTSTAMP:20260421T184017
CREATED:20260310T215909Z
LAST-MODIFIED:20260310T215909Z
UID:10001311-1819728000-1819738800@highlandlakesofburnetcounty.com
SUMMARY:Downtown Marble Falls Farmers Market
DESCRIPTION:The Downtown Marble Falls Farmers Market is open at Harmony Park from 4-7 p.m. Tuesdays\, weather permitting. Parking and admission are free. Click the link to become a vendor. 
URL:https://highlandlakesofburnetcounty.com/event/downtown-marble-falls-farmers-market-87/
CATEGORIES:Arts & Culture,Community,Outdoors
ATTACH;FMTTYPE=image/jpeg:https://d2hl08zg7q4l7p.cloudfront.net/HLBCo/wp-content/uploads/2026/01/05150829/DgA5aIaVmXo3REEtZsxG3Chr-nZ2kiX.jpg
END:VEVENT
BEGIN:VEVENT
DTSTART;TZID=America/Chicago:20270907T160000
DTEND;TZID=America/Chicago:20270907T190000
DTSTAMP:20260421T184017
CREATED:20260310T215910Z
LAST-MODIFIED:20260310T215910Z
UID:10001312-1820332800-1820343600@highlandlakesofburnetcounty.com
SUMMARY:Downtown Marble Falls Farmers Market
DESCRIPTION:The Downtown Marble Falls Farmers Market is open at Harmony Park from 4-7 p.m. Tuesdays\, weather permitting. Parking and admission are free. Click the link to become a vendor. 
URL:https://highlandlakesofburnetcounty.com/event/downtown-marble-falls-farmers-market-88/
CATEGORIES:Arts & Culture,Community,Outdoors
ATTACH;FMTTYPE=image/jpeg:https://d2hl08zg7q4l7p.cloudfront.net/HLBCo/wp-content/uploads/2026/01/05150829/DgA5aIaVmXo3REEtZsxG3Chr-nZ2kiX.jpg
END:VEVENT
BEGIN:VEVENT
DTSTART;TZID=America/Chicago:20270914T160000
DTEND;TZID=America/Chicago:20270914T190000
DTSTAMP:20260421T184017
CREATED:20260310T215911Z
LAST-MODIFIED:20260310T215911Z
UID:10001313-1820937600-1820948400@highlandlakesofburnetcounty.com
SUMMARY:Downtown Marble Falls Farmers Market
DESCRIPTION:The Downtown Marble Falls Farmers Market is open at Harmony Park from 4-7 p.m. Tuesdays\, weather permitting. Parking and admission are free. Click the link to become a vendor. 
URL:https://highlandlakesofburnetcounty.com/event/downtown-marble-falls-farmers-market-89/
CATEGORIES:Arts & Culture,Community,Outdoors
ATTACH;FMTTYPE=image/jpeg:https://d2hl08zg7q4l7p.cloudfront.net/HLBCo/wp-content/uploads/2026/01/05150829/DgA5aIaVmXo3REEtZsxG3Chr-nZ2kiX.jpg
END:VEVENT
BEGIN:VEVENT
DTSTART;TZID=America/Chicago:20270921T160000
DTEND;TZID=America/Chicago:20270921T190000
DTSTAMP:20260421T184017
CREATED:20260310T215917Z
LAST-MODIFIED:20260310T215924Z
UID:10001314-1821542400-1821553200@highlandlakesofburnetcounty.com
SUMMARY:Downtown Marble Falls Farmers Market
DESCRIPTION:The Downtown Marble Falls Farmers Market is open at Harmony Park from 4-7 p.m. Tuesdays\, weather permitting. Parking and admission are free. Click the link to become a vendor. 
URL:https://highlandlakesofburnetcounty.com/event/downtown-marble-falls-farmers-market-90/
CATEGORIES:Arts & Culture,Community,Outdoors
ATTACH;FMTTYPE=image/jpeg:https://d2hl08zg7q4l7p.cloudfront.net/HLBCo/wp-content/uploads/2026/01/05150829/DgA5aIaVmXo3REEtZsxG3Chr-nZ2kiX.jpg
END:VEVENT
BEGIN:VEVENT
DTSTART;TZID=America/Chicago:20270928T160000
DTEND;TZID=America/Chicago:20270928T190000
DTSTAMP:20260421T184017
CREATED:20260310T215919Z
LAST-MODIFIED:20260310T215925Z
UID:10001315-1822147200-1822158000@highlandlakesofburnetcounty.com
SUMMARY:Downtown Marble Falls Farmers Market
DESCRIPTION:The Downtown Marble Falls Farmers Market is open at Harmony Park from 4-7 p.m. Tuesdays\, weather permitting. Parking and admission are free. Click the link to become a vendor. 
URL:https://highlandlakesofburnetcounty.com/event/downtown-marble-falls-farmers-market-91/
CATEGORIES:Arts & Culture,Community,Outdoors
ATTACH;FMTTYPE=image/jpeg:https://d2hl08zg7q4l7p.cloudfront.net/HLBCo/wp-content/uploads/2026/01/05150829/DgA5aIaVmXo3REEtZsxG3Chr-nZ2kiX.jpg
END:VEVENT
BEGIN:VEVENT
DTSTART;TZID=America/Chicago:20271005T160000
DTEND;TZID=America/Chicago:20271005T190000
DTSTAMP:20260421T184017
CREATED:20260310T215920Z
LAST-MODIFIED:20260310T215926Z
UID:10001316-1822752000-1822762800@highlandlakesofburnetcounty.com
SUMMARY:Downtown Marble Falls Farmers Market
DESCRIPTION:The Downtown Marble Falls Farmers Market is open at Harmony Park from 4-7 p.m. Tuesdays\, weather permitting. Parking and admission are free. Click the link to become a vendor. 
URL:https://highlandlakesofburnetcounty.com/event/downtown-marble-falls-farmers-market-92/
CATEGORIES:Arts & Culture,Community,Outdoors
ATTACH;FMTTYPE=image/jpeg:https://d2hl08zg7q4l7p.cloudfront.net/HLBCo/wp-content/uploads/2026/01/05150829/DgA5aIaVmXo3REEtZsxG3Chr-nZ2kiX.jpg
END:VEVENT
BEGIN:VEVENT
DTSTART;TZID=America/Chicago:20271012T160000
DTEND;TZID=America/Chicago:20271012T190000
DTSTAMP:20260421T184017
CREATED:20260310T215921Z
LAST-MODIFIED:20260310T215926Z
UID:10001317-1823356800-1823367600@highlandlakesofburnetcounty.com
SUMMARY:Downtown Marble Falls Farmers Market
DESCRIPTION:The Downtown Marble Falls Farmers Market is open at Harmony Park from 4-7 p.m. Tuesdays\, weather permitting. Parking and admission are free. Click the link to become a vendor. 
URL:https://highlandlakesofburnetcounty.com/event/downtown-marble-falls-farmers-market-93/
CATEGORIES:Arts & Culture,Community,Outdoors
ATTACH;FMTTYPE=image/jpeg:https://d2hl08zg7q4l7p.cloudfront.net/HLBCo/wp-content/uploads/2026/01/05150829/DgA5aIaVmXo3REEtZsxG3Chr-nZ2kiX.jpg
END:VEVENT
BEGIN:VEVENT
DTSTART;TZID=America/Chicago:20271019T160000
DTEND;TZID=America/Chicago:20271019T190000
DTSTAMP:20260421T184017
CREATED:20260310T215922Z
LAST-MODIFIED:20260310T215927Z
UID:10001318-1823961600-1823972400@highlandlakesofburnetcounty.com
SUMMARY:Downtown Marble Falls Farmers Market
DESCRIPTION:The Downtown Marble Falls Farmers Market is open at Harmony Park from 4-7 p.m. Tuesdays\, weather permitting. Parking and admission are free. Click the link to become a vendor. 
URL:https://highlandlakesofburnetcounty.com/event/downtown-marble-falls-farmers-market-94/
CATEGORIES:Arts & Culture,Community,Outdoors
ATTACH;FMTTYPE=image/jpeg:https://d2hl08zg7q4l7p.cloudfront.net/HLBCo/wp-content/uploads/2026/01/05150829/DgA5aIaVmXo3REEtZsxG3Chr-nZ2kiX.jpg
END:VEVENT
BEGIN:VEVENT
DTSTART;TZID=America/Chicago:20271026T160000
DTEND;TZID=America/Chicago:20271026T190000
DTSTAMP:20260421T184017
CREATED:20260310T215929Z
LAST-MODIFIED:20260310T215929Z
UID:10001319-1824566400-1824577200@highlandlakesofburnetcounty.com
SUMMARY:Downtown Marble Falls Farmers Market
DESCRIPTION:The Downtown Marble Falls Farmers Market is open at Harmony Park from 4-7 p.m. Tuesdays\, weather permitting. Parking and admission are free. Click the link to become a vendor. 
URL:https://highlandlakesofburnetcounty.com/event/downtown-marble-falls-farmers-market-95/
CATEGORIES:Arts & Culture,Community,Outdoors
ATTACH;FMTTYPE=image/jpeg:https://d2hl08zg7q4l7p.cloudfront.net/HLBCo/wp-content/uploads/2026/01/05150829/DgA5aIaVmXo3REEtZsxG3Chr-nZ2kiX.jpg
END:VEVENT
BEGIN:VEVENT
DTSTART;TZID=America/Chicago:20271102T160000
DTEND;TZID=America/Chicago:20271102T190000
DTSTAMP:20260421T184017
CREATED:20260310T215930Z
LAST-MODIFIED:20260310T215930Z
UID:10001320-1825171200-1825182000@highlandlakesofburnetcounty.com
SUMMARY:Downtown Marble Falls Farmers Market
DESCRIPTION:The Downtown Marble Falls Farmers Market is open at Harmony Park from 4-7 p.m. Tuesdays\, weather permitting. Parking and admission are free. Click the link to become a vendor. 
URL:https://highlandlakesofburnetcounty.com/event/downtown-marble-falls-farmers-market-96/
CATEGORIES:Arts & Culture,Community,Outdoors
ATTACH;FMTTYPE=image/jpeg:https://d2hl08zg7q4l7p.cloudfront.net/HLBCo/wp-content/uploads/2026/01/05150829/DgA5aIaVmXo3REEtZsxG3Chr-nZ2kiX.jpg
END:VEVENT
BEGIN:VEVENT
DTSTART;TZID=America/Chicago:20271109T160000
DTEND;TZID=America/Chicago:20271109T190000
DTSTAMP:20260421T184017
CREATED:20260310T215931Z
LAST-MODIFIED:20260310T215931Z
UID:10001321-1825776000-1825786800@highlandlakesofburnetcounty.com
SUMMARY:Downtown Marble Falls Farmers Market
DESCRIPTION:The Downtown Marble Falls Farmers Market is open at Harmony Park from 4-7 p.m. Tuesdays\, weather permitting. Parking and admission are free. Click the link to become a vendor. 
URL:https://highlandlakesofburnetcounty.com/event/downtown-marble-falls-farmers-market-97/
CATEGORIES:Arts & Culture,Community,Outdoors
ATTACH;FMTTYPE=image/jpeg:https://d2hl08zg7q4l7p.cloudfront.net/HLBCo/wp-content/uploads/2026/01/05150829/DgA5aIaVmXo3REEtZsxG3Chr-nZ2kiX.jpg
END:VEVENT
BEGIN:VEVENT
DTSTART;TZID=America/Chicago:20271116T160000
DTEND;TZID=America/Chicago:20271116T190000
DTSTAMP:20260421T184017
CREATED:20260310T215932Z
LAST-MODIFIED:20260310T215932Z
UID:10001322-1826380800-1826391600@highlandlakesofburnetcounty.com
SUMMARY:Downtown Marble Falls Farmers Market
DESCRIPTION:The Downtown Marble Falls Farmers Market is open at Harmony Park from 4-7 p.m. Tuesdays\, weather permitting. Parking and admission are free. Click the link to become a vendor. 
URL:https://highlandlakesofburnetcounty.com/event/downtown-marble-falls-farmers-market-98/
CATEGORIES:Arts & Culture,Community,Outdoors
ATTACH;FMTTYPE=image/jpeg:https://d2hl08zg7q4l7p.cloudfront.net/HLBCo/wp-content/uploads/2026/01/05150829/DgA5aIaVmXo3REEtZsxG3Chr-nZ2kiX.jpg
END:VEVENT
BEGIN:VEVENT
DTSTART;TZID=America/Chicago:20271123T160000
DTEND;TZID=America/Chicago:20271123T190000
DTSTAMP:20260421T184017
CREATED:20260310T215933Z
LAST-MODIFIED:20260310T215933Z
UID:10001323-1826985600-1826996400@highlandlakesofburnetcounty.com
SUMMARY:Downtown Marble Falls Farmers Market
DESCRIPTION:The Downtown Marble Falls Farmers Market is open at Harmony Park from 4-7 p.m. Tuesdays\, weather permitting. Parking and admission are free. Click the link to become a vendor. 
URL:https://highlandlakesofburnetcounty.com/event/downtown-marble-falls-farmers-market-99/
CATEGORIES:Arts & Culture,Community,Outdoors
ATTACH;FMTTYPE=image/jpeg:https://d2hl08zg7q4l7p.cloudfront.net/HLBCo/wp-content/uploads/2026/01/05150829/DgA5aIaVmXo3REEtZsxG3Chr-nZ2kiX.jpg
END:VEVENT
BEGIN:VEVENT
DTSTART;TZID=America/Chicago:20271130T160000
DTEND;TZID=America/Chicago:20271130T190000
DTSTAMP:20260421T184017
CREATED:20260310T215938Z
LAST-MODIFIED:20260310T215938Z
UID:10001324-1827590400-1827601200@highlandlakesofburnetcounty.com
SUMMARY:Downtown Marble Falls Farmers Market
DESCRIPTION:The Downtown Marble Falls Farmers Market is open at Harmony Park from 4-7 p.m. Tuesdays\, weather permitting. Parking and admission are free. Click the link to become a vendor. 
URL:https://highlandlakesofburnetcounty.com/event/downtown-marble-falls-farmers-market-100/
CATEGORIES:Arts & Culture,Community,Outdoors
ATTACH;FMTTYPE=image/jpeg:https://d2hl08zg7q4l7p.cloudfront.net/HLBCo/wp-content/uploads/2026/01/05150829/DgA5aIaVmXo3REEtZsxG3Chr-nZ2kiX.jpg
END:VEVENT
BEGIN:VEVENT
DTSTART;TZID=America/Chicago:20271207T160000
DTEND;TZID=America/Chicago:20271207T190000
DTSTAMP:20260421T184017
CREATED:20260310T215940Z
LAST-MODIFIED:20260310T215940Z
UID:10001325-1828195200-1828206000@highlandlakesofburnetcounty.com
SUMMARY:Downtown Marble Falls Farmers Market
DESCRIPTION:The Downtown Marble Falls Farmers Market is open at Harmony Park from 4-7 p.m. Tuesdays\, weather permitting. Parking and admission are free. Click the link to become a vendor. 
URL:https://highlandlakesofburnetcounty.com/event/downtown-marble-falls-farmers-market-101/
CATEGORIES:Arts & Culture,Community,Outdoors
ATTACH;FMTTYPE=image/jpeg:https://d2hl08zg7q4l7p.cloudfront.net/HLBCo/wp-content/uploads/2026/01/05150829/DgA5aIaVmXo3REEtZsxG3Chr-nZ2kiX.jpg
END:VEVENT
BEGIN:VEVENT
DTSTART;TZID=America/Chicago:20271214T160000
DTEND;TZID=America/Chicago:20271214T190000
DTSTAMP:20260421T184017
CREATED:20260310T215941Z
LAST-MODIFIED:20260310T215941Z
UID:10001326-1828800000-1828810800@highlandlakesofburnetcounty.com
SUMMARY:Downtown Marble Falls Farmers Market
DESCRIPTION:The Downtown Marble Falls Farmers Market is open at Harmony Park from 4-7 p.m. Tuesdays\, weather permitting. Parking and admission are free. Click the link to become a vendor. 
URL:https://highlandlakesofburnetcounty.com/event/downtown-marble-falls-farmers-market-102/
CATEGORIES:Arts & Culture,Community,Outdoors
ATTACH;FMTTYPE=image/jpeg:https://d2hl08zg7q4l7p.cloudfront.net/HLBCo/wp-content/uploads/2026/01/05150829/DgA5aIaVmXo3REEtZsxG3Chr-nZ2kiX.jpg
END:VEVENT
BEGIN:VEVENT
DTSTART;TZID=America/Chicago:20271221T160000
DTEND;TZID=America/Chicago:20271221T190000
DTSTAMP:20260421T184017
CREATED:20260310T215942Z
LAST-MODIFIED:20260310T215942Z
UID:10001327-1829404800-1829415600@highlandlakesofburnetcounty.com
SUMMARY:Downtown Marble Falls Farmers Market
DESCRIPTION:The Downtown Marble Falls Farmers Market is open at Harmony Park from 4-7 p.m. Tuesdays\, weather permitting. Parking and admission are free. Click the link to become a vendor. 
URL:https://highlandlakesofburnetcounty.com/event/downtown-marble-falls-farmers-market-103/
CATEGORIES:Arts & Culture,Community,Outdoors
ATTACH;FMTTYPE=image/jpeg:https://d2hl08zg7q4l7p.cloudfront.net/HLBCo/wp-content/uploads/2026/01/05150829/DgA5aIaVmXo3REEtZsxG3Chr-nZ2kiX.jpg
END:VEVENT
END:VCALENDAR