BEGIN:VCALENDAR
VERSION:2.0
PRODID:-//The Highland Lakes of Burnet County Texas - ECPv6.15.20//NONSGML v1.0//EN
CALSCALE:GREGORIAN
METHOD:PUBLISH
X-WR-CALNAME:The Highland Lakes of Burnet County Texas
X-ORIGINAL-URL:https://highlandlakesofburnetcounty.com
X-WR-CALDESC:Events for The Highland Lakes of Burnet County Texas
REFRESH-INTERVAL;VALUE=DURATION:PT1H
X-Robots-Tag:noindex
X-PUBLISHED-TTL:PT1H
BEGIN:VTIMEZONE
TZID:America/Chicago
BEGIN:DAYLIGHT
TZOFFSETFROM:-0600
TZOFFSETTO:-0500
TZNAME:CDT
DTSTART:20250309T080000
END:DAYLIGHT
BEGIN:STANDARD
TZOFFSETFROM:-0500
TZOFFSETTO:-0600
TZNAME:CST
DTSTART:20251102T070000
END:STANDARD
BEGIN:DAYLIGHT
TZOFFSETFROM:-0600
TZOFFSETTO:-0500
TZNAME:CDT
DTSTART:20260308T080000
END:DAYLIGHT
BEGIN:STANDARD
TZOFFSETFROM:-0500
TZOFFSETTO:-0600
TZNAME:CST
DTSTART:20261101T070000
END:STANDARD
BEGIN:DAYLIGHT
TZOFFSETFROM:-0600
TZOFFSETTO:-0500
TZNAME:CDT
DTSTART:20270314T080000
END:DAYLIGHT
BEGIN:STANDARD
TZOFFSETFROM:-0500
TZOFFSETTO:-0600
TZNAME:CST
DTSTART:20271107T070000
END:STANDARD
BEGIN:DAYLIGHT
TZOFFSETFROM:-0600
TZOFFSETTO:-0500
TZNAME:CDT
DTSTART:20280312T080000
END:DAYLIGHT
BEGIN:STANDARD
TZOFFSETFROM:-0500
TZOFFSETTO:-0600
TZNAME:CST
DTSTART:20281105T070000
END:STANDARD
END:VTIMEZONE
BEGIN:VEVENT
DTSTART;TZID=America/Chicago:20260922T160000
DTEND;TZID=America/Chicago:20260922T190000
DTSTAMP:20260421T131718
CREATED:20260310T215735Z
LAST-MODIFIED:20260310T215735Z
UID:10001262-1790092800-1790103600@highlandlakesofburnetcounty.com
SUMMARY:Downtown Marble Falls Farmers Market
DESCRIPTION:The Downtown Marble Falls Farmers Market is open at Harmony Park from 4-7 p.m. Tuesdays\, weather permitting. Parking and admission are free. Click the link to become a vendor. 
URL:https://highlandlakesofburnetcounty.com/event/downtown-marble-falls-farmers-market-38/
CATEGORIES:Arts & Culture,Community,Outdoors
ATTACH;FMTTYPE=image/jpeg:https://d2hl08zg7q4l7p.cloudfront.net/HLBCo/wp-content/uploads/2026/01/05150829/DgA5aIaVmXo3REEtZsxG3Chr-nZ2kiX.jpg
END:VEVENT
BEGIN:VEVENT
DTSTART;TZID=America/Chicago:20260929T160000
DTEND;TZID=America/Chicago:20260929T190000
DTSTAMP:20260421T131718
CREATED:20260310T215736Z
LAST-MODIFIED:20260310T215736Z
UID:10001263-1790697600-1790708400@highlandlakesofburnetcounty.com
SUMMARY:Downtown Marble Falls Farmers Market
DESCRIPTION:The Downtown Marble Falls Farmers Market is open at Harmony Park from 4-7 p.m. Tuesdays\, weather permitting. Parking and admission are free. Click the link to become a vendor. 
URL:https://highlandlakesofburnetcounty.com/event/downtown-marble-falls-farmers-market-39/
CATEGORIES:Arts & Culture,Community,Outdoors
ATTACH;FMTTYPE=image/jpeg:https://d2hl08zg7q4l7p.cloudfront.net/HLBCo/wp-content/uploads/2026/01/05150829/DgA5aIaVmXo3REEtZsxG3Chr-nZ2kiX.jpg
END:VEVENT
BEGIN:VEVENT
DTSTART;TZID=America/Chicago:20261006T160000
DTEND;TZID=America/Chicago:20261006T190000
DTSTAMP:20260421T131718
CREATED:20260310T215740Z
LAST-MODIFIED:20260310T215740Z
UID:10001264-1791302400-1791313200@highlandlakesofburnetcounty.com
SUMMARY:Downtown Marble Falls Farmers Market
DESCRIPTION:The Downtown Marble Falls Farmers Market is open at Harmony Park from 4-7 p.m. Tuesdays\, weather permitting. Parking and admission are free. Click the link to become a vendor. 
URL:https://highlandlakesofburnetcounty.com/event/downtown-marble-falls-farmers-market-40/
CATEGORIES:Arts & Culture,Community,Outdoors
ATTACH;FMTTYPE=image/jpeg:https://d2hl08zg7q4l7p.cloudfront.net/HLBCo/wp-content/uploads/2026/01/05150829/DgA5aIaVmXo3REEtZsxG3Chr-nZ2kiX.jpg
END:VEVENT
BEGIN:VEVENT
DTSTART;TZID=America/Chicago:20261013T160000
DTEND;TZID=America/Chicago:20261013T190000
DTSTAMP:20260421T131718
CREATED:20260310T215741Z
LAST-MODIFIED:20260310T215741Z
UID:10001265-1791907200-1791918000@highlandlakesofburnetcounty.com
SUMMARY:Downtown Marble Falls Farmers Market
DESCRIPTION:The Downtown Marble Falls Farmers Market is open at Harmony Park from 4-7 p.m. Tuesdays\, weather permitting. Parking and admission are free. Click the link to become a vendor. 
URL:https://highlandlakesofburnetcounty.com/event/downtown-marble-falls-farmers-market-41/
CATEGORIES:Arts & Culture,Community,Outdoors
ATTACH;FMTTYPE=image/jpeg:https://d2hl08zg7q4l7p.cloudfront.net/HLBCo/wp-content/uploads/2026/01/05150829/DgA5aIaVmXo3REEtZsxG3Chr-nZ2kiX.jpg
END:VEVENT
BEGIN:VEVENT
DTSTART;TZID=America/Chicago:20261020T160000
DTEND;TZID=America/Chicago:20261020T190000
DTSTAMP:20260421T131718
CREATED:20260310T215742Z
LAST-MODIFIED:20260310T215742Z
UID:10001266-1792512000-1792522800@highlandlakesofburnetcounty.com
SUMMARY:Downtown Marble Falls Farmers Market
DESCRIPTION:The Downtown Marble Falls Farmers Market is open at Harmony Park from 4-7 p.m. Tuesdays\, weather permitting. Parking and admission are free. Click the link to become a vendor. 
URL:https://highlandlakesofburnetcounty.com/event/downtown-marble-falls-farmers-market-42/
CATEGORIES:Arts & Culture,Community,Outdoors
ATTACH;FMTTYPE=image/jpeg:https://d2hl08zg7q4l7p.cloudfront.net/HLBCo/wp-content/uploads/2026/01/05150829/DgA5aIaVmXo3REEtZsxG3Chr-nZ2kiX.jpg
END:VEVENT
BEGIN:VEVENT
DTSTART;TZID=America/Chicago:20261027T160000
DTEND;TZID=America/Chicago:20261027T190000
DTSTAMP:20260421T131718
CREATED:20260310T215743Z
LAST-MODIFIED:20260310T215743Z
UID:10001267-1793116800-1793127600@highlandlakesofburnetcounty.com
SUMMARY:Downtown Marble Falls Farmers Market
DESCRIPTION:The Downtown Marble Falls Farmers Market is open at Harmony Park from 4-7 p.m. Tuesdays\, weather permitting. Parking and admission are free. Click the link to become a vendor. 
URL:https://highlandlakesofburnetcounty.com/event/downtown-marble-falls-farmers-market-43/
CATEGORIES:Arts & Culture,Community,Outdoors
ATTACH;FMTTYPE=image/jpeg:https://d2hl08zg7q4l7p.cloudfront.net/HLBCo/wp-content/uploads/2026/01/05150829/DgA5aIaVmXo3REEtZsxG3Chr-nZ2kiX.jpg
END:VEVENT
BEGIN:VEVENT
DTSTART;TZID=America/Chicago:20261103T160000
DTEND;TZID=America/Chicago:20261103T190000
DTSTAMP:20260421T131718
CREATED:20260310T215744Z
LAST-MODIFIED:20260310T215744Z
UID:10001268-1793721600-1793732400@highlandlakesofburnetcounty.com
SUMMARY:Downtown Marble Falls Farmers Market
DESCRIPTION:The Downtown Marble Falls Farmers Market is open at Harmony Park from 4-7 p.m. Tuesdays\, weather permitting. Parking and admission are free. Click the link to become a vendor. 
URL:https://highlandlakesofburnetcounty.com/event/downtown-marble-falls-farmers-market-44/
CATEGORIES:Arts & Culture,Community,Outdoors
ATTACH;FMTTYPE=image/jpeg:https://d2hl08zg7q4l7p.cloudfront.net/HLBCo/wp-content/uploads/2026/01/05150829/DgA5aIaVmXo3REEtZsxG3Chr-nZ2kiX.jpg
END:VEVENT
BEGIN:VEVENT
DTSTART;TZID=America/Chicago:20261110T160000
DTEND;TZID=America/Chicago:20261110T190000
DTSTAMP:20260421T131718
CREATED:20260310T215749Z
LAST-MODIFIED:20260310T215749Z
UID:10001269-1794326400-1794337200@highlandlakesofburnetcounty.com
SUMMARY:Downtown Marble Falls Farmers Market
DESCRIPTION:The Downtown Marble Falls Farmers Market is open at Harmony Park from 4-7 p.m. Tuesdays\, weather permitting. Parking and admission are free. Click the link to become a vendor. 
URL:https://highlandlakesofburnetcounty.com/event/downtown-marble-falls-farmers-market-45/
CATEGORIES:Arts & Culture,Community,Outdoors
ATTACH;FMTTYPE=image/jpeg:https://d2hl08zg7q4l7p.cloudfront.net/HLBCo/wp-content/uploads/2026/01/05150829/DgA5aIaVmXo3REEtZsxG3Chr-nZ2kiX.jpg
END:VEVENT
BEGIN:VEVENT
DTSTART;TZID=America/Chicago:20261117T160000
DTEND;TZID=America/Chicago:20261117T190000
DTSTAMP:20260421T131718
CREATED:20260310T215750Z
LAST-MODIFIED:20260310T215750Z
UID:10001270-1794931200-1794942000@highlandlakesofburnetcounty.com
SUMMARY:Downtown Marble Falls Farmers Market
DESCRIPTION:The Downtown Marble Falls Farmers Market is open at Harmony Park from 4-7 p.m. Tuesdays\, weather permitting. Parking and admission are free. Click the link to become a vendor. 
URL:https://highlandlakesofburnetcounty.com/event/downtown-marble-falls-farmers-market-46/
CATEGORIES:Arts & Culture,Community,Outdoors
ATTACH;FMTTYPE=image/jpeg:https://d2hl08zg7q4l7p.cloudfront.net/HLBCo/wp-content/uploads/2026/01/05150829/DgA5aIaVmXo3REEtZsxG3Chr-nZ2kiX.jpg
END:VEVENT
BEGIN:VEVENT
DTSTART;TZID=America/Chicago:20261124T160000
DTEND;TZID=America/Chicago:20261124T190000
DTSTAMP:20260421T131718
CREATED:20260310T215751Z
LAST-MODIFIED:20260310T215751Z
UID:10001271-1795536000-1795546800@highlandlakesofburnetcounty.com
SUMMARY:Downtown Marble Falls Farmers Market
DESCRIPTION:The Downtown Marble Falls Farmers Market is open at Harmony Park from 4-7 p.m. Tuesdays\, weather permitting. Parking and admission are free. Click the link to become a vendor. 
URL:https://highlandlakesofburnetcounty.com/event/downtown-marble-falls-farmers-market-47/
CATEGORIES:Arts & Culture,Community,Outdoors
ATTACH;FMTTYPE=image/jpeg:https://d2hl08zg7q4l7p.cloudfront.net/HLBCo/wp-content/uploads/2026/01/05150829/DgA5aIaVmXo3REEtZsxG3Chr-nZ2kiX.jpg
END:VEVENT
BEGIN:VEVENT
DTSTART;TZID=America/Chicago:20261201T160000
DTEND;TZID=America/Chicago:20261201T190000
DTSTAMP:20260421T131718
CREATED:20260310T215752Z
LAST-MODIFIED:20260310T215752Z
UID:10001272-1796140800-1796151600@highlandlakesofburnetcounty.com
SUMMARY:Downtown Marble Falls Farmers Market
DESCRIPTION:The Downtown Marble Falls Farmers Market is open at Harmony Park from 4-7 p.m. Tuesdays\, weather permitting. Parking and admission are free. Click the link to become a vendor. 
URL:https://highlandlakesofburnetcounty.com/event/downtown-marble-falls-farmers-market-48/
CATEGORIES:Arts & Culture,Community,Outdoors
ATTACH;FMTTYPE=image/jpeg:https://d2hl08zg7q4l7p.cloudfront.net/HLBCo/wp-content/uploads/2026/01/05150829/DgA5aIaVmXo3REEtZsxG3Chr-nZ2kiX.jpg
END:VEVENT
BEGIN:VEVENT
DTSTART;TZID=America/Chicago:20261208T160000
DTEND;TZID=America/Chicago:20261208T190000
DTSTAMP:20260421T131718
CREATED:20260310T215753Z
LAST-MODIFIED:20260310T215753Z
UID:10001273-1796745600-1796756400@highlandlakesofburnetcounty.com
SUMMARY:Downtown Marble Falls Farmers Market
DESCRIPTION:The Downtown Marble Falls Farmers Market is open at Harmony Park from 4-7 p.m. Tuesdays\, weather permitting. Parking and admission are free. Click the link to become a vendor. 
URL:https://highlandlakesofburnetcounty.com/event/downtown-marble-falls-farmers-market-49/
CATEGORIES:Arts & Culture,Community,Outdoors
ATTACH;FMTTYPE=image/jpeg:https://d2hl08zg7q4l7p.cloudfront.net/HLBCo/wp-content/uploads/2026/01/05150829/DgA5aIaVmXo3REEtZsxG3Chr-nZ2kiX.jpg
END:VEVENT
BEGIN:VEVENT
DTSTART;TZID=America/Chicago:20261215T160000
DTEND;TZID=America/Chicago:20261215T190000
DTSTAMP:20260421T131718
CREATED:20260310T215758Z
LAST-MODIFIED:20260310T215758Z
UID:10001274-1797350400-1797361200@highlandlakesofburnetcounty.com
SUMMARY:Downtown Marble Falls Farmers Market
DESCRIPTION:The Downtown Marble Falls Farmers Market is open at Harmony Park from 4-7 p.m. Tuesdays\, weather permitting. Parking and admission are free. Click the link to become a vendor. 
URL:https://highlandlakesofburnetcounty.com/event/downtown-marble-falls-farmers-market-50/
CATEGORIES:Arts & Culture,Community,Outdoors
ATTACH;FMTTYPE=image/jpeg:https://d2hl08zg7q4l7p.cloudfront.net/HLBCo/wp-content/uploads/2026/01/05150829/DgA5aIaVmXo3REEtZsxG3Chr-nZ2kiX.jpg
END:VEVENT
BEGIN:VEVENT
DTSTART;TZID=America/Chicago:20261222T160000
DTEND;TZID=America/Chicago:20261222T190000
DTSTAMP:20260421T131718
CREATED:20260310T215759Z
LAST-MODIFIED:20260310T215759Z
UID:10001275-1797955200-1797966000@highlandlakesofburnetcounty.com
SUMMARY:Downtown Marble Falls Farmers Market
DESCRIPTION:The Downtown Marble Falls Farmers Market is open at Harmony Park from 4-7 p.m. Tuesdays\, weather permitting. Parking and admission are free. Click the link to become a vendor. 
URL:https://highlandlakesofburnetcounty.com/event/downtown-marble-falls-farmers-market-51/
CATEGORIES:Arts & Culture,Community,Outdoors
ATTACH;FMTTYPE=image/jpeg:https://d2hl08zg7q4l7p.cloudfront.net/HLBCo/wp-content/uploads/2026/01/05150829/DgA5aIaVmXo3REEtZsxG3Chr-nZ2kiX.jpg
END:VEVENT
BEGIN:VEVENT
DTSTART;TZID=America/Chicago:20261229T160000
DTEND;TZID=America/Chicago:20261229T190000
DTSTAMP:20260421T131718
CREATED:20260310T215801Z
LAST-MODIFIED:20260310T215801Z
UID:10001276-1798560000-1798570800@highlandlakesofburnetcounty.com
SUMMARY:Downtown Marble Falls Farmers Market
DESCRIPTION:The Downtown Marble Falls Farmers Market is open at Harmony Park from 4-7 p.m. Tuesdays\, weather permitting. Parking and admission are free. Click the link to become a vendor. 
URL:https://highlandlakesofburnetcounty.com/event/downtown-marble-falls-farmers-market-52/
CATEGORIES:Arts & Culture,Community,Outdoors
ATTACH;FMTTYPE=image/jpeg:https://d2hl08zg7q4l7p.cloudfront.net/HLBCo/wp-content/uploads/2026/01/05150829/DgA5aIaVmXo3REEtZsxG3Chr-nZ2kiX.jpg
END:VEVENT
BEGIN:VEVENT
DTSTART;TZID=America/Chicago:20270105T160000
DTEND;TZID=America/Chicago:20270105T190000
DTSTAMP:20260421T131718
CREATED:20260310T215802Z
LAST-MODIFIED:20260310T215802Z
UID:10001277-1799164800-1799175600@highlandlakesofburnetcounty.com
SUMMARY:Downtown Marble Falls Farmers Market
DESCRIPTION:The Downtown Marble Falls Farmers Market is open at Harmony Park from 4-7 p.m. Tuesdays\, weather permitting. Parking and admission are free. Click the link to become a vendor. 
URL:https://highlandlakesofburnetcounty.com/event/downtown-marble-falls-farmers-market-53/
CATEGORIES:Arts & Culture,Community,Outdoors
ATTACH;FMTTYPE=image/jpeg:https://d2hl08zg7q4l7p.cloudfront.net/HLBCo/wp-content/uploads/2026/01/05150829/DgA5aIaVmXo3REEtZsxG3Chr-nZ2kiX.jpg
END:VEVENT
BEGIN:VEVENT
DTSTART;TZID=America/Chicago:20270112T160000
DTEND;TZID=America/Chicago:20270112T190000
DTSTAMP:20260421T131718
CREATED:20260310T215803Z
LAST-MODIFIED:20260310T215803Z
UID:10001278-1799769600-1799780400@highlandlakesofburnetcounty.com
SUMMARY:Downtown Marble Falls Farmers Market
DESCRIPTION:The Downtown Marble Falls Farmers Market is open at Harmony Park from 4-7 p.m. Tuesdays\, weather permitting. Parking and admission are free. Click the link to become a vendor. 
URL:https://highlandlakesofburnetcounty.com/event/downtown-marble-falls-farmers-market-54/
CATEGORIES:Arts & Culture,Community,Outdoors
ATTACH;FMTTYPE=image/jpeg:https://d2hl08zg7q4l7p.cloudfront.net/HLBCo/wp-content/uploads/2026/01/05150829/DgA5aIaVmXo3REEtZsxG3Chr-nZ2kiX.jpg
END:VEVENT
BEGIN:VEVENT
DTSTART;TZID=America/Chicago:20270119T160000
DTEND;TZID=America/Chicago:20270119T190000
DTSTAMP:20260421T131718
CREATED:20260310T215810Z
LAST-MODIFIED:20260310T215810Z
UID:10001279-1800374400-1800385200@highlandlakesofburnetcounty.com
SUMMARY:Downtown Marble Falls Farmers Market
DESCRIPTION:The Downtown Marble Falls Farmers Market is open at Harmony Park from 4-7 p.m. Tuesdays\, weather permitting. Parking and admission are free. Click the link to become a vendor. 
URL:https://highlandlakesofburnetcounty.com/event/downtown-marble-falls-farmers-market-55/
CATEGORIES:Arts & Culture,Community,Outdoors
ATTACH;FMTTYPE=image/jpeg:https://d2hl08zg7q4l7p.cloudfront.net/HLBCo/wp-content/uploads/2026/01/05150829/DgA5aIaVmXo3REEtZsxG3Chr-nZ2kiX.jpg
END:VEVENT
BEGIN:VEVENT
DTSTART;TZID=America/Chicago:20270126T160000
DTEND;TZID=America/Chicago:20270126T190000
DTSTAMP:20260421T131718
CREATED:20260310T215811Z
LAST-MODIFIED:20260310T215811Z
UID:10001280-1800979200-1800990000@highlandlakesofburnetcounty.com
SUMMARY:Downtown Marble Falls Farmers Market
DESCRIPTION:The Downtown Marble Falls Farmers Market is open at Harmony Park from 4-7 p.m. Tuesdays\, weather permitting. Parking and admission are free. Click the link to become a vendor. 
URL:https://highlandlakesofburnetcounty.com/event/downtown-marble-falls-farmers-market-56/
CATEGORIES:Arts & Culture,Community,Outdoors
ATTACH;FMTTYPE=image/jpeg:https://d2hl08zg7q4l7p.cloudfront.net/HLBCo/wp-content/uploads/2026/01/05150829/DgA5aIaVmXo3REEtZsxG3Chr-nZ2kiX.jpg
END:VEVENT
BEGIN:VEVENT
DTSTART;TZID=America/Chicago:20270202T160000
DTEND;TZID=America/Chicago:20270202T190000
DTSTAMP:20260421T131718
CREATED:20260310T215812Z
LAST-MODIFIED:20260310T215812Z
UID:10001281-1801584000-1801594800@highlandlakesofburnetcounty.com
SUMMARY:Downtown Marble Falls Farmers Market
DESCRIPTION:The Downtown Marble Falls Farmers Market is open at Harmony Park from 4-7 p.m. Tuesdays\, weather permitting. Parking and admission are free. Click the link to become a vendor. 
URL:https://highlandlakesofburnetcounty.com/event/downtown-marble-falls-farmers-market-57/
CATEGORIES:Arts & Culture,Community,Outdoors
ATTACH;FMTTYPE=image/jpeg:https://d2hl08zg7q4l7p.cloudfront.net/HLBCo/wp-content/uploads/2026/01/05150829/DgA5aIaVmXo3REEtZsxG3Chr-nZ2kiX.jpg
END:VEVENT
BEGIN:VEVENT
DTSTART;TZID=America/Chicago:20270209T160000
DTEND;TZID=America/Chicago:20270209T190000
DTSTAMP:20260421T131718
CREATED:20260310T215813Z
LAST-MODIFIED:20260310T215813Z
UID:10001282-1802188800-1802199600@highlandlakesofburnetcounty.com
SUMMARY:Downtown Marble Falls Farmers Market
DESCRIPTION:The Downtown Marble Falls Farmers Market is open at Harmony Park from 4-7 p.m. Tuesdays\, weather permitting. Parking and admission are free. Click the link to become a vendor. 
URL:https://highlandlakesofburnetcounty.com/event/downtown-marble-falls-farmers-market-58/
CATEGORIES:Arts & Culture,Community,Outdoors
ATTACH;FMTTYPE=image/jpeg:https://d2hl08zg7q4l7p.cloudfront.net/HLBCo/wp-content/uploads/2026/01/05150829/DgA5aIaVmXo3REEtZsxG3Chr-nZ2kiX.jpg
END:VEVENT
BEGIN:VEVENT
DTSTART;TZID=America/Chicago:20270216T160000
DTEND;TZID=America/Chicago:20270216T190000
DTSTAMP:20260421T131718
CREATED:20260310T215814Z
LAST-MODIFIED:20260310T215814Z
UID:10001283-1802793600-1802804400@highlandlakesofburnetcounty.com
SUMMARY:Downtown Marble Falls Farmers Market
DESCRIPTION:The Downtown Marble Falls Farmers Market is open at Harmony Park from 4-7 p.m. Tuesdays\, weather permitting. Parking and admission are free. Click the link to become a vendor. 
URL:https://highlandlakesofburnetcounty.com/event/downtown-marble-falls-farmers-market-59/
CATEGORIES:Arts & Culture,Community,Outdoors
ATTACH;FMTTYPE=image/jpeg:https://d2hl08zg7q4l7p.cloudfront.net/HLBCo/wp-content/uploads/2026/01/05150829/DgA5aIaVmXo3REEtZsxG3Chr-nZ2kiX.jpg
END:VEVENT
BEGIN:VEVENT
DTSTART;TZID=America/Chicago:20270223T160000
DTEND;TZID=America/Chicago:20270223T190000
DTSTAMP:20260421T131718
CREATED:20260310T215820Z
LAST-MODIFIED:20260310T215820Z
UID:10001284-1803398400-1803409200@highlandlakesofburnetcounty.com
SUMMARY:Downtown Marble Falls Farmers Market
DESCRIPTION:The Downtown Marble Falls Farmers Market is open at Harmony Park from 4-7 p.m. Tuesdays\, weather permitting. Parking and admission are free. Click the link to become a vendor. 
URL:https://highlandlakesofburnetcounty.com/event/downtown-marble-falls-farmers-market-60/
CATEGORIES:Arts & Culture,Community,Outdoors
ATTACH;FMTTYPE=image/jpeg:https://d2hl08zg7q4l7p.cloudfront.net/HLBCo/wp-content/uploads/2026/01/05150829/DgA5aIaVmXo3REEtZsxG3Chr-nZ2kiX.jpg
END:VEVENT
BEGIN:VEVENT
DTSTART;TZID=America/Chicago:20270302T160000
DTEND;TZID=America/Chicago:20270302T190000
DTSTAMP:20260421T131718
CREATED:20260310T215821Z
LAST-MODIFIED:20260310T215821Z
UID:10001285-1804003200-1804014000@highlandlakesofburnetcounty.com
SUMMARY:Downtown Marble Falls Farmers Market
DESCRIPTION:The Downtown Marble Falls Farmers Market is open at Harmony Park from 4-7 p.m. Tuesdays\, weather permitting. Parking and admission are free. Click the link to become a vendor. 
URL:https://highlandlakesofburnetcounty.com/event/downtown-marble-falls-farmers-market-61/
CATEGORIES:Arts & Culture,Community,Outdoors
ATTACH;FMTTYPE=image/jpeg:https://d2hl08zg7q4l7p.cloudfront.net/HLBCo/wp-content/uploads/2026/01/05150829/DgA5aIaVmXo3REEtZsxG3Chr-nZ2kiX.jpg
END:VEVENT
BEGIN:VEVENT
DTSTART;TZID=America/Chicago:20270309T160000
DTEND;TZID=America/Chicago:20270309T190000
DTSTAMP:20260421T131718
CREATED:20260310T215822Z
LAST-MODIFIED:20260310T215822Z
UID:10001286-1804608000-1804618800@highlandlakesofburnetcounty.com
SUMMARY:Downtown Marble Falls Farmers Market
DESCRIPTION:The Downtown Marble Falls Farmers Market is open at Harmony Park from 4-7 p.m. Tuesdays\, weather permitting. Parking and admission are free. Click the link to become a vendor. 
URL:https://highlandlakesofburnetcounty.com/event/downtown-marble-falls-farmers-market-62/
CATEGORIES:Arts & Culture,Community,Outdoors
ATTACH;FMTTYPE=image/jpeg:https://d2hl08zg7q4l7p.cloudfront.net/HLBCo/wp-content/uploads/2026/01/05150829/DgA5aIaVmXo3REEtZsxG3Chr-nZ2kiX.jpg
END:VEVENT
BEGIN:VEVENT
DTSTART;TZID=America/Chicago:20270316T160000
DTEND;TZID=America/Chicago:20270316T190000
DTSTAMP:20260421T131718
CREATED:20260310T215823Z
LAST-MODIFIED:20260310T215823Z
UID:10001287-1805212800-1805223600@highlandlakesofburnetcounty.com
SUMMARY:Downtown Marble Falls Farmers Market
DESCRIPTION:The Downtown Marble Falls Farmers Market is open at Harmony Park from 4-7 p.m. Tuesdays\, weather permitting. Parking and admission are free. Click the link to become a vendor. 
URL:https://highlandlakesofburnetcounty.com/event/downtown-marble-falls-farmers-market-63/
CATEGORIES:Arts & Culture,Community,Outdoors
ATTACH;FMTTYPE=image/jpeg:https://d2hl08zg7q4l7p.cloudfront.net/HLBCo/wp-content/uploads/2026/01/05150829/DgA5aIaVmXo3REEtZsxG3Chr-nZ2kiX.jpg
END:VEVENT
BEGIN:VEVENT
DTSTART;TZID=America/Chicago:20270323T160000
DTEND;TZID=America/Chicago:20270323T190000
DTSTAMP:20260421T131718
CREATED:20260310T215825Z
LAST-MODIFIED:20260310T215825Z
UID:10001288-1805817600-1805828400@highlandlakesofburnetcounty.com
SUMMARY:Downtown Marble Falls Farmers Market
DESCRIPTION:The Downtown Marble Falls Farmers Market is open at Harmony Park from 4-7 p.m. Tuesdays\, weather permitting. Parking and admission are free. Click the link to become a vendor. 
URL:https://highlandlakesofburnetcounty.com/event/downtown-marble-falls-farmers-market-64/
CATEGORIES:Arts & Culture,Community,Outdoors
ATTACH;FMTTYPE=image/jpeg:https://d2hl08zg7q4l7p.cloudfront.net/HLBCo/wp-content/uploads/2026/01/05150829/DgA5aIaVmXo3REEtZsxG3Chr-nZ2kiX.jpg
END:VEVENT
BEGIN:VEVENT
DTSTART;TZID=America/Chicago:20270330T160000
DTEND;TZID=America/Chicago:20270330T190000
DTSTAMP:20260421T131718
CREATED:20260310T215828Z
LAST-MODIFIED:20260310T215828Z
UID:10001289-1806422400-1806433200@highlandlakesofburnetcounty.com
SUMMARY:Downtown Marble Falls Farmers Market
DESCRIPTION:The Downtown Marble Falls Farmers Market is open at Harmony Park from 4-7 p.m. Tuesdays\, weather permitting. Parking and admission are free. Click the link to become a vendor. 
URL:https://highlandlakesofburnetcounty.com/event/downtown-marble-falls-farmers-market-65/
CATEGORIES:Arts & Culture,Community,Outdoors
ATTACH;FMTTYPE=image/jpeg:https://d2hl08zg7q4l7p.cloudfront.net/HLBCo/wp-content/uploads/2026/01/05150829/DgA5aIaVmXo3REEtZsxG3Chr-nZ2kiX.jpg
END:VEVENT
BEGIN:VEVENT
DTSTART;TZID=America/Chicago:20270406T160000
DTEND;TZID=America/Chicago:20270406T190000
DTSTAMP:20260421T131718
CREATED:20260310T215829Z
LAST-MODIFIED:20260310T215829Z
UID:10001290-1807027200-1807038000@highlandlakesofburnetcounty.com
SUMMARY:Downtown Marble Falls Farmers Market
DESCRIPTION:The Downtown Marble Falls Farmers Market is open at Harmony Park from 4-7 p.m. Tuesdays\, weather permitting. Parking and admission are free. Click the link to become a vendor. 
URL:https://highlandlakesofburnetcounty.com/event/downtown-marble-falls-farmers-market-66/
CATEGORIES:Arts & Culture,Community,Outdoors
ATTACH;FMTTYPE=image/jpeg:https://d2hl08zg7q4l7p.cloudfront.net/HLBCo/wp-content/uploads/2026/01/05150829/DgA5aIaVmXo3REEtZsxG3Chr-nZ2kiX.jpg
END:VEVENT
BEGIN:VEVENT
DTSTART;TZID=America/Chicago:20270413T160000
DTEND;TZID=America/Chicago:20270413T190000
DTSTAMP:20260421T131718
CREATED:20260310T215830Z
LAST-MODIFIED:20260310T215830Z
UID:10001291-1807632000-1807642800@highlandlakesofburnetcounty.com
SUMMARY:Downtown Marble Falls Farmers Market
DESCRIPTION:The Downtown Marble Falls Farmers Market is open at Harmony Park from 4-7 p.m. Tuesdays\, weather permitting. Parking and admission are free. Click the link to become a vendor. 
URL:https://highlandlakesofburnetcounty.com/event/downtown-marble-falls-farmers-market-67/
CATEGORIES:Arts & Culture,Community,Outdoors
ATTACH;FMTTYPE=image/jpeg:https://d2hl08zg7q4l7p.cloudfront.net/HLBCo/wp-content/uploads/2026/01/05150829/DgA5aIaVmXo3REEtZsxG3Chr-nZ2kiX.jpg
END:VEVENT
END:VCALENDAR